Workbook
Name list_1: Base!$D$2:$D$5
Name list_10: Base!$D$38:$D$41
Name list_11: Base!$D$42:$D$45
Name list_12: Base!$D$46:$D$49
Name list_13: Base!$D$50:$D$53
Name list_14: Base!$D$54:$D$57
Name list_15: Base!$D$58:$D$61
Name list_16: Base!$D$62:$D$65
Name list_17: Base!$D$66:$D$69
Name list_18: Base!$D$70:$D$73
Name list_19: Base!$D$74:$D$77
Name list_2: Base!$D$6:$D$9
Name list_20: Base!$D$78:$D$81
Name list_21: Base!$D$82:$D$85
Name list_22: Base!$D$86:$D$89
Name list_23: Base!$D$90:$D$93
Name list_24: Base!$D$94:$D$97
Name list_3: Base!$D$10:$D$13
Name list_4: Base!$D$14:$D$17
Name list_5: Base!$D$18:$D$21
Name list_6: Base!$D$22:$D$25
Name list_7: Base!$D$26:$D$29
Name list_8: Base!$D$30:$D$33
Name list_9: Base!$D$34:$D$37

Sheet Rappel des procédures
B2: LABELLISATION D'ÉTABLISSEMENT EN DÉMARCHE DE DÉVELOPPEMENT DURABLE
A4: Le Bulletin Officiel de l’Éducation Nationale n°36 du 24/09/2020 précise comment les écoles, collèges, lycées et centres de formation d’apprentis peuvent obtenir le label E3D (école ou établissement en démarche de développement durable).
A5: Peut être considérée comme « E3D - Établissement en démarche de développement durable » toute école scolaire engagée dans la mise en oeuvre d'un projet établissant une continuité entre les enseignements, le périscolaire, la gestion et la maintenance de la structure scolaire en lien avec les parents, les collectivités locales et les partenaires.
A7: La grille d'autopositionnement est divisée en 24 items répartis en trois domaines : Domaine 1. Action pédagogique, éducative et formation Domaine 2. Gestion durable de l'établissement Domaine 3. Pilotage de l’éducation au développement durable au sein de l'établissement

Sheet Objectifs ODD
A1: 17 objectifs de développement durable
A2: Au cœur de l'Agenda 2030, 17 Objectifs de développement durable (ODD) ont été fixés. Ils couvrent l'intégralité des enjeux de développement dans tous les pays tels que le climat, la biodiversité, l'énergie, l'eau, la pauvreté, l'égalité des genres, la prospérité économique ou encore la paix, l'agriculture, l'éducation, etc.
A3: Un classement thématique des ressources EDD est disponible sur notre site EDD selon les 17 Objectifs du Développement Durable :
A4: http://edd.ac-besancon.fr/ressources-thematiques-edd/
B6: ODD1 - Éliminer la pauvreté sous toutes ses formes et partout dans le monde | C6: Le premier ODD vise la fin de la pauvreté et la lutte contre les inégalités sous toutes ses formes et partout dans le monde. Il se compose de sept sous-objectifs ciblant : la lutte contre la pauvreté, l’accès aux services de bases, la réduction de la proportion de travailleurs pauvres et des personnes les plus vulnérables, notamment les femmes et les enfants.
B7: ODD2 - Éliminer la faim, assurer la sécurité alimentaire, améliorer la nutrition et promouvoir une agriculture durable | C7: Le deuxième ODD vise à éradiquer la faim et la malnutrition en garantissant l'accès à une alimentation sûre, nutritive et suffisante pour tous. Il appelle à la mise en place de systèmes de production alimentaire et de pratiques agricoles durables et résilients. Il ne pourra être atteint que si les cibles de plusieurs autres ODD sont également atteintes. Les décideurs ont un rôle à jouer dans la promotion de systèmes de production durables à grande échelle et dans le bon fonctionnement des marchés alimentaires.
B8: ODD3 - Donner aux individus les moyens de vivre une vie saine et promouvoir le bien-être à tous les âges | C8: Le troisième ODD vise à assurer la santé et le bien-être de tous, en améliorant la santé procréative, maternelle et infantile, en réduisant les principales maladies transmissibles, non transmissibles, environnementales et mentales. Ces enjeux sanitaires pourront être réalisés à condition de mettre en place des systèmes de prévention visant la réduction des comportements déviants ainsi que tout facteur de risque pour la santé, d’assurer un accès universel à une couverture médicale et aux services de santé, de soutenir la recherche et le développement de vaccins et de médicaments et améliorer la gestion des risques sanitaires dans les pays en développement.
B9: ODD4 - Veiller à ce que tous puissent suivre une éducation de qualité dans des conditions d’équité et promouvoir les possibilités d’apprentissage tout au long de la vie | C9: Le quatrième ODD vise à garantir l'accès à tous et toutes à une éducation équitable, gratuite et de qualité à travers toutes les étapes de la vie, en éliminant notamment les disparités entre les sexes et les revenus. Il met également l’accent sur l’acquisition de compétences fondamentales et de niveau supérieur pour vivre dans une société durable. Il appelle aussi à la construction et à l'amélioration des infrastructures éducatives, à l’augmentation du nombre de bourses d'études supérieures octroyées aux pays en développement et du nombre d’enseignants qualifiés dans ces pays.
B10: ODD5 - Réaliser l’égalité des sexes et autonomiser toutes les femmes et les filles | C10: Le cinquième ODD est spécifiquement dédié à l’autonomisation des filles et des femmes. Il concerne l’égalité entre les sexes et vise à mettre fin à toutes les formes de discriminations et de violences contre les femmes et les filles dans le monde entier. Les cibles définies concernent : la lutte contre les discriminations et contre les violences faites aux femmes, l’accès des femmes à des fonctions de direction et de décision et l’accès universel aux droits sexuels et reproductifs. Il agit en interrelation avec les 16 autres ODD : il permet la conception et la mise en œuvre de toutes les politiques publiques au prisme du genre et encourage la mise en place de politiques dédiées à la lutte contre les inégalités qui subsistent et nécessitent des mesures positives en faveur des femmes.
B11: ODD 6 - Garantir l’accès de tous à l’eau et à l’assainissement et assurer une gestion durable des ressources en eau | C11: Le sixième ODD vise un accès universel et équitable à l’eau potable, à l’hygiène et à l’assainissement d’ici 2030, en particulier pour les populations vulnérables. Il appelle également à une gestion durable de cette ressource, et mentionne la réduction du nombre de personnes souffrant de la rareté de l’eau. Il intègre la notion de gestion transfrontalière de cette ressource, essentielle à la gestion durable mais aussi favorable à la paix et à la coopération.
B12: ODD7 - Garantir l’accès de tous à des services énergétiques fiables, durables et modernes, à un coût abordable | C12: Le septième ODD est au centre des défis majeurs d'aujourd'hui mais aussi des opportunités de demain. Qu’il s’agisse de lutter contre le changement climatique bien sûr, mais aussi de développer les emplois, les logements, les connexions, la sécurité, la production de nourriture, etc., l’accès de tous à une énergie durable est essentiel. Il constitue indubitablement une opportunité pour transformer les vies, les économies et la planète.
B13: ODD8 - Promouvoir une croissance économique soutenue, partagée et durable, le plein emploi productif et un travail décent pour tous | C13: Ce huitième ODD reconnaît l'importance d’une croissance économique soutenue, partagée et durable afin d’offrir à chacun un emploi décent et de qualité. Il vise à éradiquer le travail indigne et à assurer une protection de tous les travailleurs. Il promeut le développement d'opportunités de formation et d'emploi pour les nouvelles générations, accompagné d'une montée en compétences sur les emplois "durables". Il prévoit également une coopération internationale renforcée pour soutenir la croissance et l'emploi décent dans les pays en développement grâce à une augmentation de l'aide pour le commerce, à la mise en place de politiques axées sur le développement et à une stratégie mondiale pour l'emploi des jeunes.
B14: ODD9 - Mettre en place une infrastructure résiliente, promouvoir une industrialisation durable qui profite à tous et encourager l’innovation | C14: Le neuvième ODD promeut l'essor résilient et durable d’infrastructures, de l’industrialisation et de l’innovation. Ces secteurs doivent en effet être un moteur pour le recul de la pauvreté et l'amélioration de la qualité de vie dans le monde, tout en ayant un impact mineur sur l’environnement. Il appelle à favoriser un appui financier, technologique et technique des industries et en encourageant l'innovation et la recherche scientifique. Pour atteindre cet objectif, il est nécessaire de renforcer la coopération internationale dans la recherche et le développement, tout en assurant le transfert de technologie vers les pays en développement.
B15: ODD10 - Réduire les inégalités entre les pays et en leur sein | C15: Le dixième ODD appelle les pays à adapter leurs politiques et législations afin d’accroître les revenus de la part des 40 % les plus pauvres ainsi que de réduire les inégalités salariales qui seraient basées sur le sexe, l’âge, le handicap, l’origine sociale ou ethnique, l’appartenance religieuse, notamment en encourageant la représentation des pays en développement dans la prise de décisions de portée mondiale.
B16: ODD11 - Faire en sorte que les villes et les établissements humains soient ouverts à tous, sûrs, résilients et durables | C16: Le onzième ODD vise à réhabiliter et à planifier les villes, ou tout autre établissement humain, de manière à ce qu’elles puissent offrir à tous des opportunités d’emploi, un accès aux services de base, à l'énergie, au logement, au transport, espaces publics verts et autres, tout en améliorant l'utilisation des ressources et en réduisant leurs impacts environnementaux.
B17: ODD12 - Établir des modes de consommation et de production durables | C17: Le douzième ODD est un appel pour les producteurs, les consommateurs, les communautés et les gouvernements à réfléchir sur leurs habitudes et usages en termes de consommation, de production de déchets, à l'impact environnemental et social de l’ensemble de la chaîne de valeur de nos produits. Plus globalement, il réclame de comprendre les interconnexions entre les décisions personnelles et collectives, et de percevoir les impacts de nos comportements respectifs entre les pays et à l'échelle mondiale.
... B22: ODD17 - Partenariats pour la réalisation des objectifs | C22: Le dix-septième ODD promeut des partenariats efficaces entre les gouvernements, le secteur privé et la société civile nécessaires pour la réalisation des Objectifs du développement durable au niveau mondial, régional, national et local. Ces partenariats doivent être inclusifs, construits sur des principes et des valeurs communes, et plaçant au cœur de leur préoccupation, les peuples et la planète.

Sheet Grille à compléter
E2: Positionnement E3D - École
D3: Date d'envoi à labellisation.e3d@ac-besancon.fr
D4: Nom de l'école :
D5: Indiquer le ou les UAI concernés
D6: Adresse :
D7: Code postal + ville :
D8: Positionnement réalisé par (+ fonction) :
D9: Courriel de l'école + Téléphone :
A10: Domaines | B10: Domaines | C10: Items | D10: Intitulé de l'item | E10: Politique conduite | F10: Points | G10: Éléments explicatifs
A11: Domaine 1 : Action pédagogique, éducative et formation | B11: 1 | C11: 1 | D11: L’Education au Développement Durable (EDD) dans les enseignements | F11: =IF(ISBLANK(Tableau4[[#This Row],[Politique conduite]]),"",VLOOKUP(Tableau4[[#This Row],[Politique conduite]],Items24[[ind]:[Points]],2,0))
B12: 1 | C12: 2 | D12: Projet(s) EDD interdisciplinaire(s) et/ou interclasse(s) | F12: =IF(ISBLANK(Tableau4[[#This Row],[Politique conduite]]),"",VLOOKUP(Tableau4[[#This Row],[Politique conduite]],Items24[[ind]:[Points]],2,0))
B13: 1 | C13: 3 | D13: Production d’élèves en lien avec l’EDD | F13: =IF(ISBLANK(Tableau4[[#This Row],[Politique conduite]]),"",VLOOKUP(Tableau4[[#This Row],[Politique conduite]],Items24[[ind]:[Points]],2,0))
B14: 1 | C14: 4 | D14: ODD et agenda 2030 | F14: =IF(ISBLANK(Tableau4[[#This Row],[Politique conduite]]),"",VLOOKUP(Tableau4[[#This Row],[Politique conduite]],Items24[[ind]:[Points]],2,0))
B15: 1 | C15: 5 | D15: Formation ou lien avec CPC ou CPD en charge de l’EDD | F15: =IF(ISBLANK(Tableau4[[#This Row],[Politique conduite]]),"",VLOOKUP(Tableau4[[#This Row],[Politique conduite]],Items24[[ind]:[Points]],2,0))
B16: 1 | C16: 6 | D16: Implication du périscolaire dans l’EDD | F16: =IF(ISBLANK(Tableau4[[#This Row],[Politique conduite]]),"",VLOOKUP(Tableau4[[#This Row],[Politique conduite]],Items24[[ind]:[Points]],2,0))
B17: 1 | C17: 7 | D17: Partenariats EDD hors périscolaire (structures économiques, culturelles ou environnementales et/ou collectivités territoriales) | F17: =IF(ISBLANK(Tableau4[[#This Row],[Politique conduite]]),"",VLOOKUP(Tableau4[[#This Row],[Politique conduite]],Items24[[ind]:[Points]],2,0))
B18: 1 | C18: 8 | D18: Mémoire de l’EDD | F18: =IF(ISBLANK(Tableau4[[#This Row],[Politique conduite]]),"",VLOOKUP(Tableau4[[#This Row],[Politique conduite]],Items24[[ind]:[Points]],2,0))
A19: Domaine 2 : Gestion durable de l’école | B19: 2 | C19: 9 | D19: Restauration scolaire - origine des denrées alimentaires (circuits courts, bio, commerce équitable) | F19: =IF(ISBLANK(Tableau4[[#This Row],[Politique conduite]]),"",VLOOKUP(Tableau4[[#This Row],[Politique conduite]],Items24[[ind]:[Points]],2,0))
B20: 2 | C20: 10 | D20: Restauration scolaire – gaspillage alimentaire | F20: =IF(ISBLANK(Tableau4[[#This Row],[Politique conduite]]),"",VLOOKUP(Tableau4[[#This Row],[Politique conduite]],Items24[[ind]:[Points]],2,0))
B21: 2 | C21: 11 | D21: L’aménagement intérieur et extérieur de l’école (biodiversité, bien être) | F21: =IF(ISBLANK(Tableau4[[#This Row],[Politique conduite]]),"",VLOOKUP(Tableau4[[#This Row],[Politique conduite]],Items24[[ind]:[Points]],2,0))
B22: 2 | C22: 12 | D22: Gestion durable de l'eau, des énergies et des consommables (Réduction des consommations, tri sélectif des déchets ) | F22: =IF(ISBLANK(Tableau4[[#This Row],[Politique conduite]]),"",VLOOKUP(Tableau4[[#This Row],[Politique conduite]],Items24[[ind]:[Points]],2,0))
B23: 2 | C23: 13 | D23: Acquisition et gestion durable des fournitures scolaires des élèves (achat groupé, origine des fournitures, réutilisation ancien cahier,…) | F23: =IF(ISBLANK(Tableau4[[#This Row],[Politique conduite]]),"",VLOOKUP(Tableau4[[#This Row],[Politique conduite]],Items24[[ind]:[Points]],2,0))
B24: 2 | C24: 14 | D24: Mobilité douce (Habitation <=> école et sortie scolaire) | F24: =IF(ISBLANK(Tableau4[[#This Row],[Politique conduite]]),"",VLOOKUP(Tableau4[[#This Row],[Politique conduite]],Items24[[ind]:[Points]],2,0))
B25: 2 | C25: 15 | D25: Bâti scolaire | F25: =IF(ISBLANK(Tableau4[[#This Row],[Politique conduite]]),"",VLOOKUP(Tableau4[[#This Row],[Politique conduite]],Items24[[ind]:[Points]],2,0))
B26: 2 | C26: 16 | D26: Entretien des locaux (nettoyage, collecte des déchets, pénibilité…) | F26: =IF(ISBLANK(Tableau4[[#This Row],[Politique conduite]]),"",VLOOKUP(Tableau4[[#This Row],[Politique conduite]],Items24[[ind]:[Points]],2,0))
A27: Domaine 3 : Pilotage de l’EDD au sein de l’école | B27: 3 | C27: 17 | D27: Le pilotage du DD au sein du conseil d’école | F27: =IF(ISBLANK(Tableau4[[#This Row],[Politique conduite]]),"",VLOOKUP(Tableau4[[#This Row],[Politique conduite]],Items24[[ind]:[Points]],2,0))
B28: 3 | C28: 18 | D28: Implication des élèves dans le pilotage du DD au conseil d’école | F28: =IF(ISBLANK(Tableau4[[#This Row],[Politique conduite]]),"",VLOOKUP(Tableau4[[#This Row],[Politique conduite]],Items24[[ind]:[Points]],2,0))
B29: 3 | C29: 19 | D29: Engagement des élèves (éco-délégués, ambassadeurs EDD, …) qui informent, représentent, sont forces de propositions" | F29: =IF(ISBLANK(Tableau4[[#This Row],[Politique conduite]]),"",VLOOKUP(Tableau4[[#This Row],[Politique conduite]],Items24[[ind]:[Points]],2,0))
B30: 3 | C30: 20 | D30: Parcours EDD de l’élève | F30: =IF(ISBLANK(Tableau4[[#This Row],[Politique conduite]]),"",VLOOKUP(Tableau4[[#This Row],[Politique conduite]],Items24[[ind]:[Points]],2,0))
B31: 3 | C31: 21 | D31: Formalisation des partenariats (signature de convention) | F31: =IF(ISBLANK(Tableau4[[#This Row],[Politique conduite]]),"",VLOOKUP(Tableau4[[#This Row],[Politique conduite]],Items24[[ind]:[Points]],2,0))
B32: 3 | C32: 22 | D32: Projet d’école | F32: =IF(ISBLANK(Tableau4[[#This Row],[Politique conduite]]),"",VLOOKUP(Tableau4[[#This Row],[Politique conduite]],Items24[[ind]:[Points]],2,0))
B33: 3 | C33: 23 | D33: Valorisation de l’engagement des élèves | F33: =IF(ISBLANK(Tableau4[[#This Row],[Politique conduite]]),"",VLOOKUP(Tableau4[[#This Row],[Politique conduite]],Items24[[ind]:[Points]],2,0))
B34: 3 | C34: 24 | D34: Communication | F34: =IF(ISBLANK(Tableau4[[#This Row],[Politique conduite]]),"",VLOOKUP(Tableau4[[#This Row],[Politique conduite]],Items24[[ind]:[Points]],2,0))

Sheet Base
A1: domaine | B1: n_i | C1: items | D1: ind | E1: Points | F1: commentaires
A2: Domaine 1. Action Pédagogique, Éducative et Formation | B2: 1 | C2: L’Education au Développement Durable Dans les enseignements | D2: Les enseignants n’évoquent pas le développement durable dans leurs enseignements | E2: 0
B3: 1 | D3: Les enseignants évoquent ponctuellement le développement durable dans leurs enseignements | E3: 1
B4: 1 | D4: Les enseignants font régulièrement des choix pédagogiques pour mettre en avant l’importance du développement durable | E4: 2
B5: 1 | D5: Les enseignants font constamment des choix pédagogiques pour mettre en avant l’importance du développement durable | E5: 3
B6: =B2+1 -> 2 | C6: Projet(s) EDD interdisciplinaire(s) Et/ou interclasse(s) | D6: Pas de projet interdisciplinaire | E6: =E2 -> 0
B7: =B6 -> 2 | D7: Un projet interdisciplinaire par un professeur | E7: =E3 -> 1
B8: =B6 -> 2 | D8: Projet(s) interdisciplinaire(s) par au moins deux professeurs | E8: =E4 -> 2
B9: =B6 -> 2 | D9: Projet(s) interdisciplinaire(s) par toute l’école | E9: =E5 -> 3
B10: =B6+1 -> 3 | C10: Production d’élèves en lien avec l’EDD | D10: Pas de support de restitution de projet | E10: =E6 -> 0
B11: =B10 -> 3 | D11: Support de restitution de projet visible par l’élève (dans le cahier de l’élève) | E11: =E7 -> 1
B12: =B10 -> 3 | D12: Support de restitution de projet visible par la classe (affichage dans la salle de classe ou document numérique partagé) | E12: =E8 -> 2
B13: =B10 -> 3 | D13: support de restitution de projet à l’école visible par l’ensemble de la communauté éducative | E13: =E9 -> 3
B14: =B10+1 -> 4 | C14: ODD et agenda 2030 | D14: Les ODD ne sont pas pris en compte | E14: =E10 -> 0
B15: =B14 -> 4 | D15: Le(s) projet(s) EDD concerne(nt) au moins un ODD identifié | E15: =E11 -> 1
B16: =B14 -> 4 | D16: Il existe plusieurs projets éducatifs qui évoquent plusieurs ODD mis en relation | E16: =E12 -> 2
B17: =B14 -> 4 | D17: Les projets et actions EDD couvrent plusieurs ODD selon une approche systémique | E17: =E13 -> 3
B18: =B14+1 -> 5 | C18: Formation ou lien avec CPC ou CPD en charge de l’EDD | D18: pas de formation ou lien avec le CPC / CPD en charge de l’EDD | E18: =E14 -> 0
B19: =B18 -> 5 | D19: Un échange dans l’année avec le CPC / CPD en charge de l’EDD | E19: =E15 -> 1
B20: =B18 -> 5 | D20: Au moins 2 échanges / rencontres dans l’année avec le CPC / CPD en charge de l’EDD | E20: =E16 -> 2
B21: =B18 -> 5 | D21: Echanges / rencontres tout au long de l’année avec le CPC / CPD en charge de l’EDD | E21: =E17 -> 3
B22: =B18+1 -> 6 | C22: Implication du périscolaire dans l’EDD | D22: Le périscolaire n’est pas engagé dans la démarche de DD | E22: =E18 -> 0
B23: =B22 -> 6 | D23: Le périscolaire traite de la thématique EDD (gaspillage alimentaire, …) sans lien avec les enseignants | E23: =E19 -> 1
B24: =B22 -> 6 | D24: Le périscolaire et un enseignant travaillent ensemble à la démarche de DD | E24: =E20 -> 2
B25: =B22 -> 6 | D25: Le périscolaire et l’ensemble des enseignants travaillent conjointement à la démarche de DD | E25: =E21 -> 3
B26: =B22+1 -> 7 | C26: Partenariats EDD hors périscolaire (structures économiques, culturelles ou environnementales Et/ou collectivités territoriales) | D26: Pas de partenaire | E26: =E22 -> 0
B27: =B26 -> 7 | D27: Un seul partenaire | E27: =E23 -> 1
B28: =B26 -> 7 | D28: Deux partenaires | E28: =E24 -> 2
B29: =B26 -> 7 | D29: Plus de 2 partenaires | E29: =E25 -> 3 | F29: one shot ou plus long terme ?
B30: =B26+1 -> 8 | C30: Mémoire de l’EDD | D30: Pas de mémoire de l’EDD | E30: =E26 -> 0
B31: =B30 -> 8 | D31: Mémoire physique ou numérique individuelle à chaque professeur / classe | E31: =E27 -> 1
B32: =B30 -> 8 | D32: Mémoire physique ou numérique accessible dans l’école (tous les élèves et les professeurs de l’École) | E32: =E28 -> 2
B33: =B30 -> 8 | D33: Mémoire physique ou numérique accessible à l’ensemble de la communauté éducative (élèves, professeurs, partenaires, parents) | E33: =E29 -> 3
A34: Domaine 2. Gestion Durable de L’école | B34: =B30+1 -> 9 | C34: Restauration scolaire - origine des denrées alimentaires (circuits courts, bio, commerce équitable) | D34: Les objectifs de la loi Egalim ne sont pas atteints | E34: =E30 -> 0
B35: =B34 -> 9 | D35: Les objectifs de la loi Egalim sont atteints partiellement (ex: local mais pas bio) | E35: =E31 -> 1
B36: =B34 -> 9 | D36: Les objectifs de la loi Egalim sont atteints | E36: =E32 -> 2
B37: =B34 -> 9 | D37: Les objectifs de la loi Egalim sont largement dépassés | E37: =E33 -> 3
B38: =B34+1 -> 10 | C38: Restauration scolaire – gaspillage alimentaire | D38: Du gaspillage existe et n’est pas valorisé (composteur, méthanisation…) | E38: =E34 -> 0
B39: =B38 -> 10 | D39: Du gaspillage existe mais il est valorisé (composteur, méthanisation…) | E39: =E35 -> 1
B40: =B38 -> 10 | D40: Le gaspillage est limité par un vrai travail pédagogique avec les élèves mais il reste conséquent | E40: =E36 -> 2
...

Sheet Résultat du positionnement
A1: Résultat de l'auto-positionnement E3D | E1: Ecole : | F1: =IF('Grille à compléter'!E4="","",('Grille à compléter'!E4))
B3: Vous | C3: avez obtenu | D3: =Base!$B$136 -> 0 | E3: points | F3: sur 72
B4: =IF(Base!B136="","",IF(Base!B136>=54,"Cela vous permet de postuler pour une labellisation de niveau 3",IF(Base!B136>=36,"Cela vous permet de postuler pour une labellisation de niveau 2",IF(Base!B136>=18,"Cela vous permet de postuler pour une labellisation E3D niveau 1","Le nombre de points obtenus pour postuler pour une labellisation E3D semble faible")))) -> Le nombre de points obtenus pour postuler pour une labellisation E3D semble faible
A6: Je sollicite la candidature de mon école au Sélectionner un niveau dans la liste déroulante | D6: =IF(C6="","",IF(C6="Niveau 1","Votre dossier sera examiné par la commission E3D",IF(C6="Niveau 2","Votre école devra venir présenter la démarche EDD pendant environ 1h à Besançon. Vous serez contacté durant le mois de Mars.",IF(C6="Niveau 3","Une commission E3D viendra visiter votre école sur une demi-journée entre Avril et Juin.",""))))
A8: --> Envoyer ce fichier Excel par mail à l'adresse suivante (avant fin février de chaque année) | G8: labellisation.e3d@ac-besancon.fr
