Workbook
Name list_1: Base!$D$2:$D$5
Name list_10: Base!$D$38:$D$41
Name list_11: Base!$D$42:$D$45
Name list_12: Base!$D$46:$D$49
Name list_13: Base!$D$50:$D$53
Name list_14: Base!$D$54:$D$57
Name list_15: Base!$D$58:$D$61
Name list_16: Base!$D$62:$D$65
Name list_17: Base!$D$66:$D$69
Name list_18: Base!$D$70:$D$73
Name list_19: Base!$D$74:$D$77
Name list_2: Base!$D$6:$D$9
Name list_20: Base!$D$78:$D$81
Name list_21: Base!$D$82:$D$85
Name list_22: Base!$D$86:$D$89
Name list_23: Base!$D$90:$D$93
Name list_24: Base!$D$94:$D$97
Name list_3: Base!$D$10:$D$13
Name list_4: Base!$D$14:$D$17
Name list_5: Base!$D$18:$D$21
Name list_6: Base!$D$22:$D$25
Name list_7: Base!$D$26:$D$29
Name list_8: Base!$D$30:$D$33
Name list_9: Base!$D$34:$D$37

Sheet Rappel des procédures
B2: LABELLISATION D'ÉTABLISSEMENT EN DÉMARCHE DE DÉVELOPPEMENT DURABLE
A4: Le Bulletin Officiel de l’Éducation Nationale n°36 du 24/09/2020 précise comment les écoles, collèges, lycées et centres de formation d’apprentis peuvent obtenir le label E3D (école ou établissement en démarche de développement durable).
A5: Peut être considérée comme « E3D - Établissement en démarche de développement durable » toute école scolaire engagée dans la mise en oeuvre d'un projet établissant une continuité entre les enseignements, le périscolaire, la gestion et la maintenance de la structure scolaire en lien avec les parents, les collectivités locales et les partenaires.
A7: La grille d'autopositionnement est divisée en 24 items répartis en trois domaines : Domaine 1. Action pédagogique, éducative et formation Domaine 2. Gestion durable de l'établissement Domaine 3. Pilotage de l’éducation au développement durable au sein de l'établissement

Sheet Objectifs ODD
A1: 17 objectifs de développement durable
A2: Au cœur de l'Agenda 2030, 17 Objectifs de développement durable (ODD) ont été fixés. Ils couvrent l'intégralité des enjeux de développement dans tous les pays tels que le climat, la biodiversité, l'énergie, l'eau, la pauvreté, l'égalité des genres, la prospérité économique ou encore la paix, l'agriculture, l'éducation, etc.
A3: Un classement thématique des ressources EDD est disponible sur notre site EDD selon les 17 Objectifs du Développement Durable :
A4: http://edd.ac-besancon.fr/ressources-thematiques-edd/
B6: ODD1 - Éliminer la pauvreté sous toutes ses formes et partout dans le monde | C6: Le premier ODD vise la fin de la pauvreté et la lutte contre les inégalités sous toutes ses formes et partout dans le monde. Il se compose de sept sous-objectifs ciblant : la lutte contre la pauvreté, l’accès aux services de bases, la réduction de la proportion de travailleurs pauvres et des personnes les plus vulnérables, notamment les femmes et les enfants.
B7: ODD2 - Éliminer la faim, assurer la sécurité alimentaire, améliorer la nutrition et promouvoir une agriculture durable | C7: Le deuxième ODD vise à éradiquer la faim et la malnutrition en garantissant l'accès à une alimentation sûre, nutritive et suffisante pour tous. Il appelle à la mise en place de systèmes de production alimentaire et de pratiques agricoles durables et résilients. Il ne pourra être atteint que si les cibles de plusieurs autres ODD sont également atteintes. Les décideurs ont un rôle à jouer dans la promotion de systèmes de production durables à grande échelle et dans le bon fonctionnement des marchés alimentaires.
B8: ODD3 - Donner aux individus les moyens de vivre une vie saine et promouvoir le bien-être à tous les âges | C8: Le troisième ODD vise à assurer la santé et le bien-être de tous, en améliorant la santé procréative, maternelle et infantile, en réduisant les principales maladies transmissibles, non transmissibles, environnementales et mentales. Ces enjeux sanitaires pourront être réalisés à condition de mettre en place des systèmes de prévention visant la réduction des comportements déviants ainsi que tout facteur de risque pour la santé, d’assurer un accès universel à une couverture médicale et aux services de santé, de soutenir la recherche et le développement de vaccins et de médicaments et améliorer la gestion des risques sanitaires dans les pays en développement.
B9: ODD4 - Veiller à ce que tous puissent suivre une éducation de qualité dans des conditions d’équité et promouvoir les possibilités d’apprentissage tout au long de la vie | C9: Le quatrième ODD vise à garantir l'accès à tous et toutes à une éducation équitable, gratuite et de qualité à travers toutes les étapes de la vie, en éliminant notamment les disparités entre les sexes et les revenus. Il met également l’accent sur l’acquisition de compétences fondamentales et de niveau supérieur pour vivre dans une société durable. Il appelle aussi à la construction et à l'amélioration des infrastructures éducatives, à l’augmentation du nombre de bourses d'études supérieures octroyées aux pays en développement et du nombre d’enseignants qualifiés dans ces pays.
B10: ODD5 - Réaliser l’égalité des sexes et autonomiser toutes les femmes et les filles | C10: Le cinquième ODD est spécifiquement dédié à l’autonomisation des filles et des femmes. Il concerne l’égalité entre les sexes et vise à mettre fin à toutes les formes de discriminations et de violences contre les femmes et les filles dans le monde entier. Les cibles définies concernent : la lutte contre les discriminations et contre les violences faites aux femmes, l’accès des femmes à des fonctions de direction et de décision et l’accès universel aux droits sexuels et reproductifs. Il agit en interrelation avec les 16 autres ODD : il permet la conception et la mise en œuvre de toutes les politiques publiques au prisme du genre et encourage la mise en place de politiques dédiées à la lutte contre les inégalités qui subsistent et nécessitent des mesures positives en faveur des femmes.
B11: ODD 6 - Garantir l’accès de tous à l’eau et à l’assainissement et assurer une gestion durable des ressources en eau | C11: Le sixième ODD vise un accès universel et équitable à l’eau potable, à l’hygiène et à l’assainissement d’ici 2030, en particulier pour les populations vulnérables. Il appelle également à une gestion durable de cette ressource, et mentionne la réduction du nombre de personnes souffrant de la rareté de l’eau. Il intègre la notion de gestion transfrontalière de cette ressource, essentielle à la gestion durable mais aussi favorable à la paix et à la coopération.
B12: ODD7 - Garantir l’accès de tous à des services énergétiques fiables, durables et modernes, à un coût abordable | C12: Le septième ODD est au centre des défis majeurs d'aujourd'hui mais aussi des opportunités de demain. Qu’il s’agisse de lutter contre le changement climatique bien sûr, mais aussi de développer les emplois, les logements, les connexions, la sécurité, la production de nourriture, etc., l’accès de tous à une énergie durable est essentiel. Il constitue indubitablement une opportunité pour transformer les vies, les économies et la planète.
B13: ODD8 - Promouvoir une croissance économique soutenue, partagée et durable, le plein emploi productif et un travail décent pour tous | C13: Ce huitième ODD reconnaît l'importance d’une croissance économique soutenue, partagée et durable afin d’offrir à chacun un emploi décent et de qualité. Il vise à éradiquer le travail indigne et à assurer une protection de tous les travailleurs. Il promeut le développement d'opportunités de formation et d'emploi pour les nouvelles générations, accompagné d'une montée en compétences sur les emplois "durables". Il prévoit également une coopération internationale renforcée pour soutenir la croissance et l'emploi décent dans les pays en développement grâce à une augmentation de l'aide pour le commerce, à la mise en place de politiques axées sur le développement et à une stratégie mondiale pour l'emploi des jeunes.
B14: ODD9 - Mettre en place une infrastructure résiliente, promouvoir une industrialisation durable qui profite à tous et encourager l’innovation | C14: Le neuvième ODD promeut l'essor résilient et durable d’infrastructures, de l’industrialisation et de l’innovation. Ces secteurs doivent en effet être un moteur pour le recul de la pauvreté et l'amélioration de la qualité de vie dans le monde, tout en ayant un impact mineur sur l’environnement. Il appelle à favoriser un appui financier, technologique et technique des industries et en encourageant l'innovation et la recherche scientifique. Pour atteindre cet objectif, il est nécessaire de renforcer la coopération internationale dans la recherche et le développement, tout en assurant le transfert de technologie vers les pays en développement.
B15: ODD10 - Réduire les inégalités entre les pays et en leur sein | C15: Le dixième ODD appelle les pays à adapter leurs politiques et législations afin d’accroître les revenus de la part des 40 % les plus pauvres ainsi que de réduire les inégalités salariales qui seraient basées sur le sexe, l’âge, le handicap, l’origine sociale ou ethnique, l’appartenance religieuse, notamment en encourageant la représentation des pays en développement dans la prise de décisions de portée mondiale.
B16: ODD11 - Faire en sorte que les villes et les établissements humains soient ouverts à tous, sûrs, résilients et durables | C16: Le onzième ODD vise à réhabiliter et à planifier les villes, ou tout autre établissement humain, de manière à ce qu’elles puissent offrir à tous des opportunités d’emploi, un accès aux services de base, à l'énergie, au logement, au transport, espaces publics verts et autres, tout en améliorant l'utilisation des ressources et en réduisant leurs impacts environnementaux.
B17: ODD12 - Établir des modes de consommation et de production durables | C17: Le douzième ODD est un appel pour les producteurs, les consommateurs, les communautés et les gouvernements à réfléchir sur leurs habitudes et usages en termes de consommation, de production de déchets, à l'impact environnemental et social de l’ensemble de la chaîne de valeur de nos produits. Plus globalement, il réclame de comprendre les interconnexions entre les décisions personnelles et collectives, et de percevoir les impacts de nos comportements respectifs entre les pays et à l'échelle mondiale.
... B22: ODD17 - Partenariats pour la réalisation des objectifs | C22: Le dix-septième ODD promeut des partenariats efficaces entre les gouvernements, le secteur privé et la société civile nécessaires pour la réalisation des Objectifs du développement durable au niveau mondial, régional, national et local. Ces partenariats doivent être inclusifs, construits sur des principes et des valeurs communes, et plaçant au cœur de leur préoccupation, les peuples et la planète.

Sheet Grille à compléter
E2: Positionnement E3D - École
D3: Date d'envoi à labellisation.e3d@ac-besancon.fr
D4: Nom de l'école :
D5: Indiquer le ou les UAI concernés
D6: Adresse :
D7: Code postal + ville :
D8: Positionnement réalisé par (+ fonction) :
D9: Courriel de l'école + Téléphone :
A10: Domaines | B10: Domaines | C10: Items | D10: Intitulé de l'item | E10: Politique conduite | F10: Points | G10: Éléments explicatifs
A11: Domaine 1 : Action pédagogique, éducative et formation | B11: 1 | C11: 1 | D11: L’Education au Développement Durable (EDD) dans les enseignements | F11: =IF(ISBLANK(Tableau4[[#This Row],[Politique conduite]]),"",VLOOKUP(Tableau4[[#This Row],[Politique conduite]],Items24[[ind]:[Points]],2,0))
B12: 1 | C12: 2 | D12: Projet(s) EDD interdisciplinaire(s) et/ou interclasse(s) | F12: =IF(ISBLANK(Tableau4[[#This Row],[Politique conduite]]),"",VLOOKUP(Tableau4[[#This Row],[Politique conduite]],Items24[[ind]:[Points]],2,0))
B13: 1 | C13: 3 | D13: Production d’élèves en lien avec l’EDD | F13: =IF(ISBLANK(Tableau4[[#This Row],[Politique conduite]]),"",VLOOKUP(Tableau4[[#This Row],[Politique conduite]],Items24[[ind]:[Points]],2,0))
B14: 1 | C14: 4 | D14: ODD et agenda 2030 | F14: =IF(ISBLANK(Tableau4[[#This Row],[Politique conduite]]),"",VLOOKUP(Tableau4[[#This Row],[Politique conduite]],Items24[[ind]:[Points]],2,0))
B15: 1 | C15: 5 | D15: Formation ou lien avec CPC ou CPD en charge de l’EDD | F15: =IF(ISBLANK(Tableau4[[#This Row],[Politique conduite]]),"",VLOOKUP(Tableau4[[#This Row],[Politique conduite]],Items24[[ind]:[Points]],2,0))
B16: 1 | C16: 6 | D16: Implication du périscolaire dans l’EDD | F16: =IF(ISBLANK(Tableau4[[#This Row],[Politique conduite]]),"",VLOOKUP(Tableau4[[#This Row],[Politique conduite]],Items24[[ind]:[Points]],2,0))
B17: 1 | C17: 7 | D17: Partenariats EDD hors périscolaire (structures économiques, culturelles ou environnementales et/ou collectivités territoriales) | F17: =IF(ISBLANK(Tableau4[[#This Row],[Politique conduite]]),"",VLOOKUP(Tableau4[[#This Row],[Politique conduite]],Items24[[ind]:[Points]],2,0))
B18: 1 | C18: 8 | D18: Mémoire de l’EDD | F18: =IF(ISBLANK(Tableau4[[#This Row],[Politique conduite]]),"",VLOOKUP(Tableau4[[#This Row],[Politique conduite]],Items24[[ind]:[Points]],2,0))
A19: Domaine 2 : Gestion durable de l’école | B19: 2 | C19: 9 | D19: Restauration scolaire - origine des denrées alimentaires (circuits courts, bio, commerce équitable) | F19: =IF(ISBLANK(Tableau4[[#This Row],[Politique conduite]]),"",VLOOKUP(Tableau4[[#This Row],[Politique conduite]],Items24[[ind]:[Points]],2,0))
B20: 2 | C20: 10 | D20: Restauration scolaire – gaspillage alimentaire | F20: =IF(ISBLANK(Tableau4[[#This Row],[Politique conduite]]),"",VLOOKUP(Tableau4[[#This Row],[Politique conduite]],Items24[[ind]:[Points]],2,0))
B21: 2 | C21: 11 | D21: L’aménagement intérieur et extérieur de l’école (biodiversité, bien être) | F21: =IF(ISBLANK(Tableau4[[#This Row],[Politique conduite]]),"",VLOOKUP(Tableau4[[#This Row],[Politique conduite]],Items24[[ind]:[Points]],2,0))
B22: 2 | C22: 12 | D22: Gestion durable de l'eau, des énergies et des consommables (Réduction des consommations, tri sélectif des déchets ) | F22: =IF(ISBLANK(Tableau4[[#This Row],[Politique conduite]]),"",VLOOKUP(Tableau4[[#This Row],[Politique conduite]],Items24[[ind]:[Points]],2,0))
B23: 2 | C23: 13 | D23: Acquisition et gestion durable des fournitures scolaires des élèves (achat groupé, origine des fournitures, réutilisation ancien cahier,…) | F23: =IF(ISBLANK(Tableau4[[#This Row],[Politique conduite]]),"",VLOOKUP(Tableau4[[#This Row],[Politique conduite]],Items24[[ind]:[Points]],2,0))
B24: 2 | C24: 14 | D24: Mobilité douce (Habitation <=> école et sortie scolaire) | F24: =IF(ISBLANK(Tableau4[[#This Row],[Politique conduite]]),"",VLOOKUP(Tableau4[[#This Row],[Politique conduite]],Items24[[ind]:[Points]],2,0))
B25: 2 | C25: 15 | D25: Bâti scolaire | F25: =IF(ISBLANK(Tableau4[[#This Row],[Politique conduite]]),"",VLOOKUP(Tableau4[[#This Row],[Politique conduite]],Items24[[ind]:[Points]],2,0))
B26: 2 | C26: 16 | D26: Entretien des locaux (nettoyage, collecte des déchets, pénibilité…) | F26: =IF(ISBLANK(Tableau4[[#This Row],[Politique conduite]]),"",VLOOKUP(Tableau4[[#This Row],[Politique conduite]],Items24[[ind]:[Points]],2,0))
A27: Domaine 3 : Pilotage de l’EDD au sein de l’école | B27: 3 | C27: 17 | D27: Le pilotage du DD au sein du conseil d’école | F27: =IF(ISBLANK(Tableau4[[#This Row],[Politique conduite]]),"",VLOOKUP(Tableau4[[#This Row],[Politique conduite]],Items24[[ind]:[Points]],2,0))
B28: 3 | C28: 18 | D28: Implication des élèves dans le pilotage du DD au conseil d’école | F28: =IF(ISBLANK(Tableau4[[#This Row],[Politique conduite]]),"",VLOOKUP(Tableau4[[#This Row],[Politique conduite]],Items24[[ind]:[Points]],2,0))
B29: 3 | C29: 19 | D29: Engagement des élèves (éco-délégués, ambassadeurs EDD, …) qui informent, représentent, sont forces de propositions" | F29: =IF(ISBLANK(Tableau4[[#This Row],[Politique conduite]]),"",VLOOKUP(Tableau4[[#This Row],[Politique conduite]],Items24[[ind]:[Points]],2,0))
B30: 3 | C30: 20 | D30: Parcours EDD de l’élève | F30: =IF(ISBLANK(Tableau4[[#This Row],[Politique conduite]]),"",VLOOKUP(Tableau4[[#This Row],[Politique conduite]],Items24[[ind]:[Points]],2,0))
B31: 3 | C31: 21 | D31: Formalisation des partenariats (signature de convention) | F31: =IF(ISBLANK(Tableau4[[#This Row],[Politique conduite]]),"",VLOOKUP(Tableau4[[#This Row],[Politique conduite]],Items24[[ind]:[Points]],2,0))
B32: 3 | C32: 22 | D32: Projet d’école | F32: =IF(ISBLANK(Tableau4[[#This Row],[Politique conduite]]),"",VLOOKUP(Tableau4[[#This Row],[Politique conduite]],Items24[[ind]:[Points]],2,0))
B33: 3 | C33: 23 | D33: Valorisation de l’engagement des élèves | F33: =IF(ISBLANK(Tableau4[[#This Row],[Politique conduite]]),"",VLOOKUP(Tableau4[[#This Row],[Politique conduite]],Items24[[ind]:[Points]],2,0))
B34: 3 | C34: 24 | D34: Communication | F34: =IF(ISBLANK(Tableau4[[#This Row],[Politique conduite]]),"",VLOOKUP(Tableau4[[#This Row],[Politique conduite]],Items24[[ind]:[Points]],2,0))

Sheet Base
A1: domaine | B1: n_i | C1: items | D1: ind | E1: Points | F1: commentaires
A2: Domaine 1. Action Pédagogique, Éducative et Formation | B2: 1 | C2: L’Education au Développement Durable Dans les enseignements | D2: Les enseignants n’évoquent pas le développement durable dans leurs enseignements | E2: 0
B3: 1 | D3: Les enseignants évoquent ponctuellement le développement durable dans leurs enseignements | E3: 1
B4: 1 | D4: Les enseignants font régulièrement des choix pédagogiques pour mettre en avant l’importance du développement durable | E4: 2
B5: 1 | D5: Les enseignants font constamment des choix pédagogiques pour mettre en avant l’importance du développement durable | E5: 3
B6: =B2+1 -> 2 | C6: Projet(s) EDD interdisciplinaire(s) Et/ou interclasse(s) | D6: Pas de projet interdisciplinaire | E6: =E2 -> 0
B7: =B6 -> 2 | D7: Un projet interdisciplinaire par un professeur | E7: =E3 -> 1
B8: =B6 -> 2 | D8: Projet(s) interdisciplinaire(s) par au moins deux professeurs | E8: =E4 -> 2
B9: =B6 -> 2 | D9: Projet(s) interdisciplinaire(s) par toute l’école | E9: =E5 -> 3
B10: =B6+1 -> 3 | C10: Production d’élèves en lien avec l’EDD | D10: Pas de support de restitution de projet | E10: =E6 -> 0
B11: =B10 -> 3 | D11: Support de restitution de projet visible par l’élève (dans le cahier de l’élève) | E11: =E7 -> 1
B12: =B10 -> 3 | D12: Support de restitution de projet visible par la classe (affichage dans la salle de classe ou document numérique partagé) | E12: =E8 -> 2
B13: =B10 -> 3 | D13: support de restitution de projet à l’école visible par l’ensemble de la communauté éducative | E13: =E9 -> 3
B14: =B10+1 -> 4 | C14: ODD et agenda 2030 | D14: Les ODD ne sont pas pris en compte | E14: =E10 -> 0
B15: =B14 -> 4 | D15: Le(s) projet(s) EDD concerne(nt) au moins un ODD identifié | E15: =E11 -> 1
B16: =B14 -> 4 | D16: Il existe plusieurs projets éducatifs qui évoquent plusieurs ODD mis en relation | E16: =E12 -> 2
B17: =B14 -> 4 | D17: Les projets et actions EDD couvrent plusieurs ODD selon une approche systémique | E17: =E13 -> 3
B18: =B14+1 -> 5 | C18: Formation ou lien avec CPC ou CPD en charge de l’EDD | D18: pas de formation ou lien avec le CPC / CPD en charge de l’EDD | E18: =E14 -> 0
B19: =B18 -> 5 | D19: Un échange dans l’année avec le CPC / CPD en charge de l’EDD | E19: =E15 -> 1
B20: =B18 -> 5 | D20: Au moins 2 échanges / rencontres dans l’année avec le CPC / CPD en charge de l’EDD | E20: =E16 -> 2
B21: =B18 -> 5 | D21: Echanges / rencontres tout au long de l’année avec le CPC / CPD en charge de l’EDD | E21: =E17 -> 3
B22: =B18+1 -> 6 | C22: Implication du périscolaire dans l’EDD | D22: Le périscolaire n’est pas engagé dans la démarche de DD | E22: =E18 -> 0
B23: =B22 -> 6 | D23: Le périscolaire traite de la thématique EDD (gaspillage alimentaire, …) sans lien avec les enseignants | E23: =E19 -> 1
B24: =B22 -> 6 | D24: Le périscolaire et un enseignant travaillent ensemble à la démarche de DD | E24: =E20 -> 2
B25: =B22 -> 6 | D25: Le périscolaire et l’ensemble des enseignants travaillent conjointement à la démarche de DD | E25: =E21 -> 3
B26: =B22+1 -> 7 | C26: Partenariats EDD hors périscolaire (structures économiques, culturelles ou environnementales Et/ou collectivités territoriales) | D26: Pas de partenaire | E26: =E22 -> 0
B27: =B26 -> 7 | D27: Un seul partenaire | E27: =E23 -> 1
B28: =B26 -> 7 | D28: Deux partenaires | E28: =E24 -> 2
B29: =B26 -> 7 | D29: Plus de 2 partenaires | E29: =E25 -> 3 | F29: one shot ou plus long terme ?
B30: =B26+1 -> 8 | C30: Mémoire de l’EDD | D30: Pas de mémoire de l’EDD | E30: =E26 -> 0
B31: =B30 -> 8 | D31: Mémoire physique ou numérique individuelle à chaque professeur / classe | E31: =E27 -> 1
B32: =B30 -> 8 | D32: Mémoire physique ou numérique accessible dans l’école (tous les élèves et les professeurs de l’École) | E32: =E28 -> 2
B33: =B30 -> 8 | D33: Mémoire physique ou numérique accessible à l’ensemble de la communauté éducative (élèves, professeurs, partenaires, parents) | E33: =E29 -> 3
A34: Domaine 2. Gestion Durable de L’école | B34: =B30+1 -> 9 | C34: Restauration scolaire - origine des denrées alimentaires (circuits courts, bio, commerce équitable) | D34: Les objectifs de la loi Egalim ne sont pas atteints | E34: =E30 -> 0
B35: =B34 -> 9 | D35: Les objectifs de la loi Egalim sont atteints partiellement (ex: local mais pas bio) | E35: =E31 -> 1
B36: =B34 -> 9 | D36: Les objectifs de la loi Egalim sont atteints | E36: =E32 -> 2
B37: =B34 -> 9 | D37: Les objectifs de la loi Egalim sont largement dépassés | E37: =E33 -> 3
B38: =B34+1 -> 10 | C38: Restauration scolaire – gaspillage alimentaire | D38: Du gaspillage existe et n’est pas valorisé (composteur, méthanisation…) | E38: =E34 -> 0
B39: =B38 -> 10 | D39: Du gaspillage existe mais il est valorisé (composteur, méthanisation…) | E39: =E35 -> 1
B40: =B38 -> 10 | D40: Le gaspillage est limité par un vrai travail pédagogique avec les élèves mais il reste conséquent | E40: =E36 -> 2
B41: =B38 -> 10 | D41: Il n’y a presque plus de gaspillage alimentaire | E41: =E37 -> 3
B42: =B38+1 -> 11 | C42: L’aménagement intérieur et extérieur de l’école (biodiversité, bien être) | D42: Aucune action n’est menée | E42: =E38 -> 0
B43: =B42 -> 11 | D43: Des actions/projets sont menés par un enseignant avec sa classe | E43: =E39 -> 1
B44: =B42 -> 11 | D44: Des actions/projets sont menés par les enseignants et leurs classes | E44: =E40 -> 2
B45: =B42 -> 11 | D45: Des projets sont menés en associant la communauté éducative | E45: =E41 -> 3
B46: =B42+1 -> 12 | C46: Gestion durable de l'eau, des énergies et des consommables (Réduction des consommations, tri sélectif des déchets ) | D46: Aucune réflexion n’est menée | E46: =E42 -> 0
B47: =B46 -> 12 | D47: Des éco gestes sont ritualisés par les élèves d’une classe | E47: =E43 -> 1
B48: =B46 -> 12 | D48: Des éco gestes sont ritualisés par tous les élèves de l’école | E48: =E44 -> 2
B49: =B46 -> 12 | D49: Des éco gestes sont ritualisés par tous les élèves de l’école. Les enseignants et la collectivité sont engagés dans la réduction des consommations (eau / énergies / consommables) | E49: =E45 -> 3
B50: =B46+1 -> 13 | C50: Acquisition et gestion durable des fournitures scolaires des élèves (achat groupé, origine des fournitures, réutilisation ancien cahier,…) | D50: Aucune réflexion n’est menée | E50: =E46 -> 0
B51: =B50 -> 13 | D51: Une classe est impliquée (enseignant et parents) | E51: =E47 -> 1
B52: =B50 -> 13 | D52: Toutes les classes sont impliquées (enseignants et parents) | E52: =E48 -> 2
B53: =B50 -> 13 | D53: Toutes les classes sont impliquées (enseignants et parents) en collaboration avec la collectivité territoriale | E53: =E49 -> 3
B54: =B50+1 -> 14 | C54: Mobilité douce Habitation <=> école et Sortie scolaire | D54: Aucune réflexion n’est menée | E54: =E50 -> 0
B55: =B54 -> 14 | D55: Au moins une action liée aux déplacements est mise en œuvre dans l'école | E55: =E51 -> 1
B56: =B54 -> 14 | D56: La plupart des sorties de l’école sont organisées pour limiter l’impact des déplacements et les parents (voire les élèves suivant l’âge) ont été sensibilisés | E56: =E52 -> 2
B57: =B54 -> 14 | D57: L’école et les parents et la collectivité ont mis en place des actions pour limiter l’impact des déplacements (pédibus, bicyclette, covoiturage,…) | E57: =E53 -> 3 | F57: assoc parents élèves, conseil d’école
B58: =B54+1 -> 15 | C58: Bâti scolaire | D58: Aucun travaux fait dernièrement | E58: =E54 -> 0
B59: =B58 -> 15 | D59: Petits travaux ponctuels d’entretien | E59: =E55 -> 1
B60: =B58 -> 15 | D60: Travaux ponctuels d’amélioration (passage néon à LED, boudins sous les portes,...) | E60: =E56 -> 2
B61: =B58 -> 15 | D61: Gros travaux d’amélioration (isolation, chauffage,…) | E61: =E57 -> 3
B62: =B58+1 -> 16 | C62: Entretien des locaux (nettoyage, collecte des déchets, pénibilité…) | D62: Pas d'évolution dans l'entretien depuis plusieurs années | E62: =E58 -> 0 | F62: pas réfléchi sur long terme, pas réfléchi en équipe
B63: =B62 -> 16 | D63: Un début de réflexion est mené, sans une mise en place d'actions | E63: =E59 -> 1 | F63: réflexion en équipe sur 1 année
B64: =B62 -> 16 | D64: Des actions sont mises en place : nettoyage éco-responsable OU gestion des déchets, OU pénibilité du travail des agents | E64: =E60 -> 2 | F64: réflexion en équipe avec bilan et perspectives
B65: =B62 -> 16 | D65: L'entretien des locaux est fait grâce à des produits labellisés écologiques, la chaine de collecte des déchets est respectée tout en limitant la pénibilité des agents | E65: =E61 -> 3 | F65: réflexion en équipe (Ecole et collectivité) avec bilan et perspectives
A66: Domaine 3 : Pilotage de l’EDD Au sein de l’établissement | B66: =B62+1 -> 17 | C66: Le pilotage du DD au sein du conseil d’école | D66: L’EDD n’est pas évoquée en conseil d’école | E66: =E62 -> 0
B67: =B66 -> 17 | D67: L’EDD est à l’ordre du jour d’un conseil d’école | E67: =E63 -> 1
B68: =B66 -> 17 | D68: L’EDD est à l’ordre du jour de deux conseils d’école | E68: =E64 -> 2
B69: =B66 -> 17 | D69: L’EDD est à l’ordre du jour de tous les conseils d’école | E69: =E65 -> 3
B70: =B66+1 -> 18 | C70: Implication des élèves dans le pilotage du DD au conseil d’école | D70: Les élèves ne sont pas impliqués | E70: =E66 -> 0
B71: =B70 -> 18 | D71: Les élèves d’une classe connaissent l’existence du conseil d’école et son rôle | E71: =E67 -> 1
B72: =B70 -> 18 | D72: Les élèves de toute l’école connaissent l’existence du conseil d’école et son rôle | E72: =E68 -> 2
B73: =B70 -> 18 | D73: Des élèves sont présents au conseil d’école | E73: =E69 -> 3 | F73: Pour clg et lycée : élèves sont dans la démarche de leur projet
B74: =B70+1 -> 19 | C74: Engagement des élèves (éco-délégués, ambassadeurs EDD, …) qui informent, représentent, sont forces de propositions | D74: Aucun élève n’est identifié/élu | E74: =E70 -> 0
B75: =B74 -> 19 | D75: Des élèves engagés dans le DD sont identifiés ou élus dans une classe | E75: =E71 -> 1
B76: =B74 -> 19 | D76: Des élèves engagés dans le DD sont identifiés ou élus dans deux classes | E76: =E72 -> 2
B77: =B74 -> 19 | D77: Des élèves engagés dans le DD sont identifiés ou élus dans toutes les classes | E77: =E73 -> 3
B78: =B74+1 -> 20 | C78: Parcours EDD de l’élève | D78: L’EDD n’est pas pensé sous forme de parcours pour l’élève | E78: =E74 -> 0
B79: =B78 -> 20 | D79: Un parcours EDD existe pour chaque élève | E79: =E75 -> 1
B80: =B78 -> 20 | D80: Un parcours EDD existe pour chaque élève incluant la santé, la citoyenneté et l’environnement | E80: =E76 -> 2
B81: =B78 -> 20 | D81: Le parcours EDD de l’élève est construit du cycle 1 au cycle 3 (en tenant compte de ce qui est fait au collège, liaison conseil école/collège) | E81: =E77 -> 3
B82: =B78+1 -> 21 | C82: Formalisation des partenariats (signature de convention) | D82: Aucun partenariat n’est noué | E82: =E78 -> 0
B83: =B82 -> 21 | D83: Des partenariats sont formalisés en lien avec le domaine 1 (actions pédagogiques) ou le domaine 2 (gestion de l’école) | E83: =E79 -> 1
B84: =B82 -> 21 | D84: Des partenariats sont formalisés en lien avec le domaine 1 (actions pédagogiques) et le domaine 2 (gestion de l’école) | E84: =E80 -> 2
B85: =B82 -> 21 | D85: Des partenariats pluriannuels diversifiés et consolidés sont formalisés | E85: =E81 -> 3
B86: =B82+1 -> 22 | C86: Projet d’école | D86: Le développement durable est absent du projet d’école | E86: =E82 -> 0 | F86: a voir avec les collègues du 1aire
B87: =B86 -> 22 | D87: Le développement durable apparaît dans au moins un axe du projet d’école | E87: =E83 -> 1
B88: =B86 -> 22 | D88: Le développement durable est central dans au moins un axe du projet d’école | E88: =E84 -> 2
B89: =B86 -> 22 | D89: Le développement durable est central dans tout le projet d’école | E89: =E85 -> 3
B90: =B86+1 -> 23 | C90: Valorisation de l’engagement des élèves | D90: Aucune valorisation de l’engagement des élèves n’est faite | E90: =E86 -> 0
B91: =B90 -> 23 | D91: Valorisation devant les élèves de sa classe | E91: =E87 -> 1
B92: =B90 -> 23 | D92: Valorisation devant les élèves de l’école | E92: =E88 -> 2
B93: =B90 -> 23 | D93: Valorisation devant les élèves de l’école et dans le LSU | E93: =E89 -> 3
B94: =B90+1 -> 24 | C94: Communication | D94: Pas d’information en direction de la communauté scolaire et des partenaires sur l’avancée des projets | E94: =E90 -> 0
B95: =B94 -> 24 | D95: Communication interne à la communauté éducative en direction des élèves, enseignants, et parents | E95: =E91 -> 1
B96: =B94 -> 24 | D96: Communication interne et externe (journal, site internet, participation à des événements...). | E96: =E92 -> 2
B97: =B94 -> 24 | D97: Les projets et actions EDD sont partagés avec d'autres acteurs (dont les autorités académiques) et valorisés (par exemple fiche action sur le site académique EDD). Les outils numériques sont un support majeur de cette entreprise de communication. | E97: =E93 -> 3
F98: =SUM('Grille à compléter'!F11:F34) -> 0
C100: cohésion de la gestion ? | D100: Aucune cohésion
D101: Un enseignant est impliqué avec la communauté éducative de sa classe
...

Sheet Résultat du positionnement
A1: Résultat de l'auto-positionnement E3D | E1: Ecole : | F1: =IF('Grille à compléter'!E4="","",('Grille à compléter'!E4))
B3: Vous | C3: avez obtenu | D3: =Base!$B$136 -> 0 | E3: points | F3: sur 72
B4: =IF(Base!B136="","",IF(Base!B136>=54,"Cela vous permet de postuler pour une labellisation de niveau 3",IF(Base!B136>=36,"Cela vous permet de postuler pour une labellisation de niveau 2",IF(Base!B136>=18,"Cela vous permet de postuler pour une labellisation E3D niveau 1","Le nombre de points obtenus pour postuler pour une labellisation E3D semble faible")))) -> Le nombre de points obtenus pour postuler pour une labellisation E3D semble faible
A6: Je sollicite la candidature de mon école au Sélectionner un niveau dans la liste déroulante | D6: =IF(C6="","",IF(C6="Niveau 1","Votre dossier sera examiné par la commission E3D",IF(C6="Niveau 2","Votre école devra venir présenter la démarche EDD pendant environ 1h à Besançon. Vous serez contacté durant le mois de Mars.",IF(C6="Niveau 3","Une commission E3D viendra visiter votre école sur une demi-journée entre Avril et Juin.",""))))
A8: --> Envoyer ce fichier Excel par mail à l'adresse suivante (avant fin février de chaque année) | G8: labellisation.e3d@ac-besancon.fr
