Workbook
Name list_1: Base!$D$2:$D$5
Name list_10: Base!$D$38:$D$41
Name list_11: Base!$D$42:$D$45
Name list_12: Base!$D$46:$D$49
Name list_13: Base!$D$50:$D$53
Name list_14: Base!$D$54:$D$57
Name list_15: Base!$D$58:$D$61
Name list_16: Base!$D$62:$D$65
Name list_17: Base!$D$66:$D$69
Name list_18: Base!$D$70:$D$73
Name list_19: Base!$D$74:$D$77
Name list_2: Base!$D$6:$D$9
Name list_20: Base!$D$78:$D$81
Name list_21: Base!$D$82:$D$85
Name list_22: Base!$D$86:$D$89
Name list_23: Base!$D$90:$D$93
Name list_24: Base!$D$94:$D$97
Name list_3: Base!$D$10:$D$13
Name list_4: Base!$D$14:$D$17
Name list_5: Base!$D$18:$D$21
Name list_6: Base!$D$22:$D$25
Name list_7: Base!$D$26:$D$29
Name list_8: Base!$D$30:$D$33
Name list_9: Base!$D$34:$D$37

Sheet Rappel des procédures
B2: LABELLISATION D'ÉTABLISSEMENT EN DÉMARCHE DE DÉVELOPPEMENT DURABLE
A4: Le Bulletin Officiel de l’Éducation Nationale n°36 du 24/09/2020 précise comment les écoles, collèges, lycées et centres de formation d’apprentis peuvent obtenir le label E3D (école ou établissement en démarche de développement durable).
A5: Peut être considérée comme « E3D - Établissement en démarche de développement durable » toute école scolaire engagée dans la mise en oeuvre d'un projet établissant une continuité entre les enseignements, le périscolaire, la gestion et la maintenance de la structure scolaire en lien avec les parents, les collectivités locales et les partenaires.
A7: La grille d'autopositionnement est divisée en 24 items répartis en trois domaines : Domaine 1. Action pédagogique, éducative et formation Domaine 2. Gestion durable de l'établissement Domaine 3. Pilotage de l’éducation au développement durable au sein de l'établissement

Sheet Grille à compléter
E2: Positionnement E3D - Établissement
D3: Date d'envoi à labellisation.e3d@ac-besancon.fr
D4: Nom de l'établissement :
D5: UAI :
D6: Adresse :
D7: Code postal + ville :
D8: Positionnement réalisé par (+ fonction) :
D9: Courriel de l'établissement + Téléphone :
A10: Domaines | B10: Domaines | C10: Items | D10: Intitulé de l'item | E10: Politique conduite | F10: Points | G10: Éléments explicatifs
A11: Domaine 1 : Action pédagogique, éducative et formation | B11: 1 | C11: 1 | D11: L’Education au Développement Durable (EDD) dans les enseignements | F11: =IF(ISBLANK(Tableau4[[#This Row],[Politique conduite]]),"",VLOOKUP(Tableau4[[#This Row],[Politique conduite]],Items24[[ind]:[Points]],2,0))
B12: 1 | C12: 2 | D12: Projet(s) EDD interdisciplinaire(s) et/ou interclasse(s) | F12: =IF(ISBLANK(Tableau4[[#This Row],[Politique conduite]]),"",VLOOKUP(Tableau4[[#This Row],[Politique conduite]],Items24[[ind]:[Points]],2,0))
B13: 1 | C13: 3 | D13: Production d’élèves en lien avec l’EDD | F13: =IF(ISBLANK(Tableau4[[#This Row],[Politique conduite]]),"",VLOOKUP(Tableau4[[#This Row],[Politique conduite]],Items24[[ind]:[Points]],2,0))
B14: 1 | C14: 4 | D14: Implication de la vie scolaire dans l'EDD | F14: =IF(ISBLANK(Tableau4[[#This Row],[Politique conduite]]),"",VLOOKUP(Tableau4[[#This Row],[Politique conduite]],Items24[[ind]:[Points]],2,0))
B15: 1 | C15: 5 | D15: Formation des équipes dans l'EDD | F15: =IF(ISBLANK(Tableau4[[#This Row],[Politique conduite]]),"",VLOOKUP(Tableau4[[#This Row],[Politique conduite]],Items24[[ind]:[Points]],2,0))
B16: 1 | C16: 6 | D16: Formation et accompagnement des éco-délégués | F16: =IF(ISBLANK(Tableau4[[#This Row],[Politique conduite]]),"",VLOOKUP(Tableau4[[#This Row],[Politique conduite]],Items24[[ind]:[Points]],2,0))
B17: 1 | C17: 7 | D17: ODD et agenda 2030 | F17: =IF(ISBLANK(Tableau4[[#This Row],[Politique conduite]]),"",VLOOKUP(Tableau4[[#This Row],[Politique conduite]],Items24[[ind]:[Points]],2,0))
B18: 1 | C18: 8 | D18: Mémoire de l’EDD | F18: =IF(ISBLANK(Tableau4[[#This Row],[Politique conduite]]),"",VLOOKUP(Tableau4[[#This Row],[Politique conduite]],Items24[[ind]:[Points]],2,0))
A19: Domaine 2 : Gestion durable de l’établissement | B19: 2 | C19: 9 | D19: Restauration scolaire - origine des denrées alimentaires (circuits courts, bio, commerce équitable) | F19: =IF(ISBLANK(Tableau4[[#This Row],[Politique conduite]]),"",VLOOKUP(Tableau4[[#This Row],[Politique conduite]],Items24[[ind]:[Points]],2,0))
B20: 2 | C20: 10 | D20: Restauration scolaire – gaspillage alimentaire | F20: =IF(ISBLANK(Tableau4[[#This Row],[Politique conduite]]),"",VLOOKUP(Tableau4[[#This Row],[Politique conduite]],Items24[[ind]:[Points]],2,0))
B21: 2 | C21: 11 | D21: Aménagement de l'établissement (intérieur ou extérieur) | F21: =IF(ISBLANK(Tableau4[[#This Row],[Politique conduite]]),"",VLOOKUP(Tableau4[[#This Row],[Politique conduite]],Items24[[ind]:[Points]],2,0))
B22: 2 | C22: 12 | D22: Biodiversité | F22: =IF(ISBLANK(Tableau4[[#This Row],[Politique conduite]]),"",VLOOKUP(Tableau4[[#This Row],[Politique conduite]],Items24[[ind]:[Points]],2,0))
B23: 2 | C23: 13 | D23: Gestion durable de l'eau, des énergies et des consommables | F23: =IF(ISBLANK(Tableau4[[#This Row],[Politique conduite]]),"",VLOOKUP(Tableau4[[#This Row],[Politique conduite]],Items24[[ind]:[Points]],2,0))
B24: 2 | C24: 14 | D24: Ecomobilité : Habitation <=> établissement et Sortie scolaire | F24: =IF(ISBLANK(Tableau4[[#This Row],[Politique conduite]]),"",VLOOKUP(Tableau4[[#This Row],[Politique conduite]],Items24[[ind]:[Points]],2,0))
B25: 2 | C25: 15 | D25: Bâti scolaire | F25: =IF(ISBLANK(Tableau4[[#This Row],[Politique conduite]]),"",VLOOKUP(Tableau4[[#This Row],[Politique conduite]],Items24[[ind]:[Points]],2,0))
B26: 2 | C26: 16 | D26: Entretien des locaux (nettoyage, collecte des déchets, pénibilité…) | F26: =IF(ISBLANK(Tableau4[[#This Row],[Politique conduite]]),"",VLOOKUP(Tableau4[[#This Row],[Politique conduite]],Items24[[ind]:[Points]],2,0))
A27: Domaine 3 : Pilotage de l’EDD au sein de l’établissement | B27: 3 | C27: 17 | D27: Le pilotage du DD au sein du CESCE | F27: =IF(ISBLANK(Tableau4[[#This Row],[Politique conduite]]),"",VLOOKUP(Tableau4[[#This Row],[Politique conduite]],Items24[[ind]:[Points]],2,0))
B28: 3 | C28: 18 | D28: Dynamique d'établissement | F28: =IF(ISBLANK(Tableau4[[#This Row],[Politique conduite]]),"",VLOOKUP(Tableau4[[#This Row],[Politique conduite]],Items24[[ind]:[Points]],2,0))
B29: 3 | C29: 19 | D29: Engagement des éco-délégués | F29: =IF(ISBLANK(Tableau4[[#This Row],[Politique conduite]]),"",VLOOKUP(Tableau4[[#This Row],[Politique conduite]],Items24[[ind]:[Points]],2,0))
B30: 3 | C30: 20 | D30: Parcours EDD de l’élève (enchaînement cohérent de projets au cours de la scolarité et en lien les ODD) | F30: =IF(ISBLANK(Tableau4[[#This Row],[Politique conduite]]),"",VLOOKUP(Tableau4[[#This Row],[Politique conduite]],Items24[[ind]:[Points]],2,0))
B31: 3 | C31: 21 | D31: Formalisation des partenariats (signature de convention) | F31: =IF(ISBLANK(Tableau4[[#This Row],[Politique conduite]]),"",VLOOKUP(Tableau4[[#This Row],[Politique conduite]],Items24[[ind]:[Points]],2,0))
B32: 3 | C32: 22 | D32: Projet d’établissement | F32: =IF(ISBLANK(Tableau4[[#This Row],[Politique conduite]]),"",VLOOKUP(Tableau4[[#This Row],[Politique conduite]],Items24[[ind]:[Points]],2,0))
B33: 3 | C33: 23 | D33: Valorisation de l’engagement des élèves | F33: =IF(ISBLANK(Tableau4[[#This Row],[Politique conduite]]),"",VLOOKUP(Tableau4[[#This Row],[Politique conduite]],Items24[[ind]:[Points]],2,0))
B34: 3 | C34: 24 | D34: Communication | F34: =IF(ISBLANK(Tableau4[[#This Row],[Politique conduite]]),"",VLOOKUP(Tableau4[[#This Row],[Politique conduite]],Items24[[ind]:[Points]],2,0))

Sheet Base
A1: domaine | B1: n_i | C1: items | D1: ind | E1: Points | F1: commentaires
A2: Domaine 1. Action Pédagogique, Éducative et Formation | B2: 1 | C2: L'EDD: Education au Développement Durable dans les enseignements | D2: Les enseignants n’évoquent pas le Développement Durable dans leurs enseignements | E2: 0
B3: 1 | D3: Quelques enseignants évoquent le Développement Durable dans leurs enseignements | E3: 1
B4: 1 | D4: Au moins la moitié des enseignants fait régulièrement des choix pédagogiques pour mettre en avant l’importance du Développement Durable et ses 4 piliers | E4: 2
B5: 1 | D5: La majorité des enseignants fait régulièrement des choix pédagogiques pour mettre en avant l’importance du Développement Durable et ses 4 piliers | E5: 3
B6: =B2+1 -> 2 | C6: Projet(s) EDD interdisciplinaire(s) Et/ou interclasse(s) | D6: Pas de projet interdisciplinaire | E6: =E2 -> 0
B7: =B6 -> 2 | D7: Un projet interdisciplinaire | E7: =E3 -> 1
B8: =B6 -> 2 | D8: Au moins un projet interdisciplinaire dans 2 dimensions du CESCE (Santé / Citoyenneté / Environnement) | E8: =E4 -> 2
B9: =B6 -> 2 | D9: Au moins un projet interdisciplinaire dans chaque dimension du CESCE (Santé / Citoyenneté / Environnement) | E9: =E5 -> 3
B10: =B6+1 -> 3 | C10: Production d’élèves en lien avec l’EDD | D10: Aucune action / aucun projet EDD ne donne lieu à une production d'élèves | E10: =E6 -> 0
B11: =B10 -> 3 | D11: Quelques actions / quelques projets EDD donnent lieu à une production d'élèves | E11: =E7 -> 1
B12: =B10 -> 3 | D12: La majorité des actions / projets EDD donne lieu à une production d'élèves | E12: =E8 -> 2
B13: =B10 -> 3 | D13: Toutes les actions / tous les projets EDD donnent lieu à une production d'élèves | E13: =E9 -> 3
B14: =B10+1 -> 4 | C14: Implication de la vie scolaire dans l'EDD | D14: Vie scolaire aucunement impliquée | E14: =E10 -> 0
B15: =B14 -> 4 | D15: Seuls les CPE sont impliqués | E15: =E11 -> 1
B16: =B14 -> 4 | D16: Les CPE et quelques AED sont impliqués | E16: =E12 -> 2
B17: =B14 -> 4 | D17: Toute l'équipe de vie scolaire est impliquée | E17: =E13 -> 3
B18: =B14+1 -> 5 | C18: Formation des équipes dans le Développement Durable | D18: Pas de formation | E18: =E14 -> 0
B19: =B18 -> 5 | D19: Au moins un PREDD a suivi une formation en lien avec le Développement Durable | E19: =E15 -> 1
B20: =B18 -> 5 | D20: En plus du PREDD, d'autres personnes (enseignants, agents, ...) ont suivi une formation en lien avec Développement Durable | E20: =E16 -> 2
B21: =B18 -> 5 | D21: L'établissement a organisé une FIL (Formation d’Initiative Locale) en lien avec le Développement Durable | E21: =E17 -> 3
B22: =B18+1 -> 6 | C22: Formation et accompagnement des éco-délégués | D22: Les éco-délégués ne sont pas accompagnés ni formés | E22: =E18 -> 0
B23: =B22 -> 6 | D23: Tous les éco-délégués sont formés pour leur mission mais pas accompagnés | E23: =E19 -> 1
B24: =B22 -> 6 | D24: Tous les éco-délégués sont formés. Des réunions sont organisées ponctuellement pour accompagner des éco-délégués | E24: =E20 -> 2
B25: =B22 -> 6 | D25: Tous les éco-délégués sont formés. Des réunions sont organisées régulièrement pour accompagner des éco-délégués | E25: =E21 -> 3
B26: =B22+1 -> 7 | C26: ODD et agenda 2030 | D26: Les ODD ne sont pas identifiés dans les actions / projets | E26: =E22 -> 0
B27: =B26 -> 7 | D27: Les actions / projets EDD concernent au moins un ODD identifié | E27: =E23 -> 1
B28: =B26 -> 7 | D28: Les actions / projets EDD concernent plusieurs ODD | E28: =E24 -> 2
B29: =B26 -> 7 | D29: Les actions/ projets EDD concernent plusieurs ODD mis en relation | E29: =E25 -> 3
B30: =B26+1 -> 8 | C30: Mémoire de l’EDD | D30: Pas de mémoire de l’EDD | E30: =E26 -> 0
B31: =B30 -> 8 | D31: Mémoire physique ou numérique individuelle à chaque professionnel de l'établissement | E31: =E27 -> 1
B32: =B30 -> 8 | D32: Mémoire physique ou numérique partagée entre tous les professionnels de l'établissement | E32: =E28 -> 2
B33: =B30 -> 8 | D33: Mémoire physique ou numérique accessible à l’ensemble de la communauté éducative (élèves, professeurs, partenaires, parents) | E33: =E29 -> 3
A34: Domaine 2. Gestion Durable de L’école | B34: =B30+1 -> 9 | C34: Restauration scolaire - origine des denrées alimentaires (circuits courts, bio, commerce équitable) | D34: Les objectifs de la loi Egalim ne sont pas atteints | E34: =E30 -> 0
B35: =B34 -> 9 | D35: Les objectifs de la loi Egalim sont atteints partiellement (ex: local mais pas bio) | E35: =E31 -> 1
B36: =B34 -> 9 | D36: Les objectifs de la loi Egalim sont atteints | E36: =E32 -> 2
B37: =B34 -> 9 | D37: Les objectifs de la loi Egalim sont dépassés | E37: =E33 -> 3
B38: =B34+1 -> 10 | C38: Restauration scolaire – gaspillage alimentaire | D38: Le gaspillage n’est pas valorisé (composteur, méthanisation…) | E38: =E34 -> 0
B39: =B38 -> 10 | D39: Le gaspillage est valorisé (composteur, méthanisation…) | E39: =E35 -> 1
B40: =B38 -> 10 | D40: Un travail pédagogique avec les élèves a été réalisé sur le gaspillage mais ce dernier a peu baissé | E40: =E36 -> 2
...

Sheet Résultat du positionnement
A1: Résultat de l'auto-positionnement E3D | E1: Etablissement : | F1: =IF('Grille à compléter'!E4="","",('Grille à compléter'!E4))
B3: Vous | C3: avez obtenu | D3: =Base!$B$136 -> 0 | E3: points | F3: sur 72
B4: =IF(Base!B136="","",IF(Base!B136>=54,"Cela vous permet de postuler pour une labellisation de niveau 3",IF(Base!B136>=36,"Cela vous permet de postuler pour une labellisation de niveau 2",IF(Base!B136>=18,"Cela vous permet de postuler pour une labellisation E3D niveau 1","Le nombre de points obtenus pour postuler pour une labellisation E3D semble faible")))) -> Le nombre de points obtenus pour postuler pour une labellisation E3D semble faible
A6: Je sollicite la candidature de mon établissement au Sélectionner un niveau dans la liste déroulante | D6: =IF(C6="","",IF(C6="Niveau 1","Votre dossier sera examiné par la commission E3D",IF(C6="Niveau 2","Votre établissement devra venir présenter la démarche EDD pendant environ 1h à Besançon. Vous serez prochainement contacté durant le mois de Mars.",IF(C6="Niveau 3","Une commission E3D viendra visiter votre établissement sur une demi-journée entre Avril et Juin.",""))))
A8: --> Envoyer ce fichier Excel par mail à l'adresse suivante (avant fin février de chaque année) | G8: labellisation.e3d@ac-besancon.fr
