Workbook
Name list_1: Base!$D$2:$D$5
Name list_10: Base!$D$38:$D$41
Name list_11: Base!$D$42:$D$45
Name list_12: Base!$D$46:$D$49
Name list_13: Base!$D$50:$D$53
Name list_14: Base!$D$54:$D$57
Name list_15: Base!$D$58:$D$61
Name list_16: Base!$D$62:$D$65
Name list_17: Base!$D$66:$D$69
Name list_18: Base!$D$70:$D$73
Name list_19: Base!$D$74:$D$77
Name list_2: Base!$D$6:$D$9
Name list_20: Base!$D$78:$D$81
Name list_21: Base!$D$82:$D$85
Name list_22: Base!$D$86:$D$89
Name list_23: Base!$D$90:$D$93
Name list_24: Base!$D$94:$D$97
Name list_3: Base!$D$10:$D$13
Name list_4: Base!$D$14:$D$17
Name list_5: Base!$D$18:$D$21
Name list_6: Base!$D$22:$D$25
Name list_7: Base!$D$26:$D$29
Name list_8: Base!$D$30:$D$33
Name list_9: Base!$D$34:$D$37

Sheet Rappel des procédures
B2: LABELLISATION D'ÉTABLISSEMENT EN DÉMARCHE DE DÉVELOPPEMENT DURABLE
A4: Le Bulletin Officiel de l’Éducation Nationale n°36 du 24/09/2020 précise comment les écoles, collèges, lycées et centres de formation d’apprentis peuvent obtenir le label E3D (école ou établissement en démarche de développement durable).
A5: Peut être considérée comme « E3D - Établissement en démarche de développement durable » toute école scolaire engagée dans la mise en oeuvre d'un projet établissant une continuité entre les enseignements, le périscolaire, la gestion et la maintenance de la structure scolaire en lien avec les parents, les collectivités locales et les partenaires.
A7: La grille d'autopositionnement est divisée en 24 items répartis en trois domaines : Domaine 1. Action pédagogique, éducative et formation Domaine 2. Gestion durable de l'établissement Domaine 3. Pilotage de l’éducation au développement durable au sein de l'établissement

Sheet Grille à compléter
E2: Positionnement E3D - Établissement
D3: Date d'envoi à labellisation.e3d@ac-besancon.fr
D4: Nom de l'établissement :
D5: UAI :
D6: Adresse :
D7: Code postal + ville :
D8: Positionnement réalisé par (+ fonction) :
D9: Courriel de l'établissement + Téléphone :
A10: Domaines | B10: Domaines | C10: Items | D10: Intitulé de l'item | E10: Politique conduite | F10: Points | G10: Éléments explicatifs
A11: Domaine 1 : Action pédagogique, éducative et formation | B11: 1 | C11: 1 | D11: L’Education au Développement Durable (EDD) dans les enseignements | F11: =IF(ISBLANK(Tableau4[[#This Row],[Politique conduite]]),"",VLOOKUP(Tableau4[[#This Row],[Politique conduite]],Items24[[ind]:[Points]],2,0))
B12: 1 | C12: 2 | D12: Projet(s) EDD interdisciplinaire(s) et/ou interclasse(s) | F12: =IF(ISBLANK(Tableau4[[#This Row],[Politique conduite]]),"",VLOOKUP(Tableau4[[#This Row],[Politique conduite]],Items24[[ind]:[Points]],2,0))
B13: 1 | C13: 3 | D13: Production d’élèves en lien avec l’EDD | F13: =IF(ISBLANK(Tableau4[[#This Row],[Politique conduite]]),"",VLOOKUP(Tableau4[[#This Row],[Politique conduite]],Items24[[ind]:[Points]],2,0))
B14: 1 | C14: 4 | D14: Implication de la vie scolaire dans l'EDD | F14: =IF(ISBLANK(Tableau4[[#This Row],[Politique conduite]]),"",VLOOKUP(Tableau4[[#This Row],[Politique conduite]],Items24[[ind]:[Points]],2,0))
B15: 1 | C15: 5 | D15: Formation des équipes dans l'EDD | F15: =IF(ISBLANK(Tableau4[[#This Row],[Politique conduite]]),"",VLOOKUP(Tableau4[[#This Row],[Politique conduite]],Items24[[ind]:[Points]],2,0))
B16: 1 | C16: 6 | D16: Formation et accompagnement des éco-délégués | F16: =IF(ISBLANK(Tableau4[[#This Row],[Politique conduite]]),"",VLOOKUP(Tableau4[[#This Row],[Politique conduite]],Items24[[ind]:[Points]],2,0))
B17: 1 | C17: 7 | D17: ODD et agenda 2030 | F17: =IF(ISBLANK(Tableau4[[#This Row],[Politique conduite]]),"",VLOOKUP(Tableau4[[#This Row],[Politique conduite]],Items24[[ind]:[Points]],2,0))
B18: 1 | C18: 8 | D18: Mémoire de l’EDD | F18: =IF(ISBLANK(Tableau4[[#This Row],[Politique conduite]]),"",VLOOKUP(Tableau4[[#This Row],[Politique conduite]],Items24[[ind]:[Points]],2,0))
A19: Domaine 2 : Gestion durable de l’établissement | B19: 2 | C19: 9 | D19: Restauration scolaire - origine des denrées alimentaires (circuits courts, bio, commerce équitable) | F19: =IF(ISBLANK(Tableau4[[#This Row],[Politique conduite]]),"",VLOOKUP(Tableau4[[#This Row],[Politique conduite]],Items24[[ind]:[Points]],2,0))
B20: 2 | C20: 10 | D20: Restauration scolaire – gaspillage alimentaire | F20: =IF(ISBLANK(Tableau4[[#This Row],[Politique conduite]]),"",VLOOKUP(Tableau4[[#This Row],[Politique conduite]],Items24[[ind]:[Points]],2,0))
B21: 2 | C21: 11 | D21: Aménagement de l'établissement (intérieur ou extérieur) | F21: =IF(ISBLANK(Tableau4[[#This Row],[Politique conduite]]),"",VLOOKUP(Tableau4[[#This Row],[Politique conduite]],Items24[[ind]:[Points]],2,0))
B22: 2 | C22: 12 | D22: Biodiversité | F22: =IF(ISBLANK(Tableau4[[#This Row],[Politique conduite]]),"",VLOOKUP(Tableau4[[#This Row],[Politique conduite]],Items24[[ind]:[Points]],2,0))
B23: 2 | C23: 13 | D23: Gestion durable de l'eau, des énergies et des consommables | F23: =IF(ISBLANK(Tableau4[[#This Row],[Politique conduite]]),"",VLOOKUP(Tableau4[[#This Row],[Politique conduite]],Items24[[ind]:[Points]],2,0))
B24: 2 | C24: 14 | D24: Ecomobilité : Habitation <=> établissement et Sortie scolaire | F24: =IF(ISBLANK(Tableau4[[#This Row],[Politique conduite]]),"",VLOOKUP(Tableau4[[#This Row],[Politique conduite]],Items24[[ind]:[Points]],2,0))
B25: 2 | C25: 15 | D25: Bâti scolaire | F25: =IF(ISBLANK(Tableau4[[#This Row],[Politique conduite]]),"",VLOOKUP(Tableau4[[#This Row],[Politique conduite]],Items24[[ind]:[Points]],2,0))
B26: 2 | C26: 16 | D26: Entretien des locaux (nettoyage, collecte des déchets, pénibilité…) | F26: =IF(ISBLANK(Tableau4[[#This Row],[Politique conduite]]),"",VLOOKUP(Tableau4[[#This Row],[Politique conduite]],Items24[[ind]:[Points]],2,0))
A27: Domaine 3 : Pilotage de l’EDD au sein de l’établissement | B27: 3 | C27: 17 | D27: Le pilotage du DD au sein du CESCE | F27: =IF(ISBLANK(Tableau4[[#This Row],[Politique conduite]]),"",VLOOKUP(Tableau4[[#This Row],[Politique conduite]],Items24[[ind]:[Points]],2,0))
B28: 3 | C28: 18 | D28: Dynamique d'établissement | F28: =IF(ISBLANK(Tableau4[[#This Row],[Politique conduite]]),"",VLOOKUP(Tableau4[[#This Row],[Politique conduite]],Items24[[ind]:[Points]],2,0))
B29: 3 | C29: 19 | D29: Engagement des éco-délégués | F29: =IF(ISBLANK(Tableau4[[#This Row],[Politique conduite]]),"",VLOOKUP(Tableau4[[#This Row],[Politique conduite]],Items24[[ind]:[Points]],2,0))
B30: 3 | C30: 20 | D30: Parcours EDD de l’élève (enchaînement cohérent de projets au cours de la scolarité et en lien les ODD) | F30: =IF(ISBLANK(Tableau4[[#This Row],[Politique conduite]]),"",VLOOKUP(Tableau4[[#This Row],[Politique conduite]],Items24[[ind]:[Points]],2,0))
B31: 3 | C31: 21 | D31: Formalisation des partenariats (signature de convention) | F31: =IF(ISBLANK(Tableau4[[#This Row],[Politique conduite]]),"",VLOOKUP(Tableau4[[#This Row],[Politique conduite]],Items24[[ind]:[Points]],2,0))
B32: 3 | C32: 22 | D32: Projet d’établissement | F32: =IF(ISBLANK(Tableau4[[#This Row],[Politique conduite]]),"",VLOOKUP(Tableau4[[#This Row],[Politique conduite]],Items24[[ind]:[Points]],2,0))
B33: 3 | C33: 23 | D33: Valorisation de l’engagement des élèves | F33: =IF(ISBLANK(Tableau4[[#This Row],[Politique conduite]]),"",VLOOKUP(Tableau4[[#This Row],[Politique conduite]],Items24[[ind]:[Points]],2,0))
B34: 3 | C34: 24 | D34: Communication | F34: =IF(ISBLANK(Tableau4[[#This Row],[Politique conduite]]),"",VLOOKUP(Tableau4[[#This Row],[Politique conduite]],Items24[[ind]:[Points]],2,0))

Sheet Base
A1: domaine | B1: n_i | C1: items | D1: ind | E1: Points | F1: commentaires
A2: Domaine 1. Action Pédagogique, Éducative et Formation | B2: 1 | C2: L'EDD: Education au Développement Durable dans les enseignements | D2: Les enseignants n’évoquent pas le Développement Durable dans leurs enseignements | E2: 0
B3: 1 | D3: Quelques enseignants évoquent le Développement Durable dans leurs enseignements | E3: 1
B4: 1 | D4: Au moins la moitié des enseignants fait régulièrement des choix pédagogiques pour mettre en avant l’importance du Développement Durable et ses 4 piliers | E4: 2
B5: 1 | D5: La majorité des enseignants fait régulièrement des choix pédagogiques pour mettre en avant l’importance du Développement Durable et ses 4 piliers | E5: 3
B6: =B2+1 -> 2 | C6: Projet(s) EDD interdisciplinaire(s) Et/ou interclasse(s) | D6: Pas de projet interdisciplinaire | E6: =E2 -> 0
B7: =B6 -> 2 | D7: Un projet interdisciplinaire | E7: =E3 -> 1
B8: =B6 -> 2 | D8: Au moins un projet interdisciplinaire dans 2 dimensions du CESCE (Santé / Citoyenneté / Environnement) | E8: =E4 -> 2
B9: =B6 -> 2 | D9: Au moins un projet interdisciplinaire dans chaque dimension du CESCE (Santé / Citoyenneté / Environnement) | E9: =E5 -> 3
B10: =B6+1 -> 3 | C10: Production d’élèves en lien avec l’EDD | D10: Aucune action / aucun projet EDD ne donne lieu à une production d'élèves | E10: =E6 -> 0
B11: =B10 -> 3 | D11: Quelques actions / quelques projets EDD donnent lieu à une production d'élèves | E11: =E7 -> 1
B12: =B10 -> 3 | D12: La majorité des actions / projets EDD donne lieu à une production d'élèves | E12: =E8 -> 2
B13: =B10 -> 3 | D13: Toutes les actions / tous les projets EDD donnent lieu à une production d'élèves | E13: =E9 -> 3
B14: =B10+1 -> 4 | C14: Implication de la vie scolaire dans l'EDD | D14: Vie scolaire aucunement impliquée | E14: =E10 -> 0
B15: =B14 -> 4 | D15: Seuls les CPE sont impliqués | E15: =E11 -> 1
B16: =B14 -> 4 | D16: Les CPE et quelques AED sont impliqués | E16: =E12 -> 2
B17: =B14 -> 4 | D17: Toute l'équipe de vie scolaire est impliquée | E17: =E13 -> 3
B18: =B14+1 -> 5 | C18: Formation des équipes dans le Développement Durable | D18: Pas de formation | E18: =E14 -> 0
B19: =B18 -> 5 | D19: Au moins un PREDD a suivi une formation en lien avec le Développement Durable | E19: =E15 -> 1
B20: =B18 -> 5 | D20: En plus du PREDD, d'autres personnes (enseignants, agents, ...) ont suivi une formation en lien avec Développement Durable | E20: =E16 -> 2
B21: =B18 -> 5 | D21: L'établissement a organisé une FIL (Formation d’Initiative Locale) en lien avec le Développement Durable | E21: =E17 -> 3
B22: =B18+1 -> 6 | C22: Formation et accompagnement des éco-délégués | D22: Les éco-délégués ne sont pas accompagnés ni formés | E22: =E18 -> 0
B23: =B22 -> 6 | D23: Tous les éco-délégués sont formés pour leur mission mais pas accompagnés | E23: =E19 -> 1
B24: =B22 -> 6 | D24: Tous les éco-délégués sont formés. Des réunions sont organisées ponctuellement pour accompagner des éco-délégués | E24: =E20 -> 2
B25: =B22 -> 6 | D25: Tous les éco-délégués sont formés. Des réunions sont organisées régulièrement pour accompagner des éco-délégués | E25: =E21 -> 3
B26: =B22+1 -> 7 | C26: ODD et agenda 2030 | D26: Les ODD ne sont pas identifiés dans les actions / projets | E26: =E22 -> 0
B27: =B26 -> 7 | D27: Les actions / projets EDD concernent au moins un ODD identifié | E27: =E23 -> 1
B28: =B26 -> 7 | D28: Les actions / projets EDD concernent plusieurs ODD | E28: =E24 -> 2
B29: =B26 -> 7 | D29: Les actions/ projets EDD concernent plusieurs ODD mis en relation | E29: =E25 -> 3
B30: =B26+1 -> 8 | C30: Mémoire de l’EDD | D30: Pas de mémoire de l’EDD | E30: =E26 -> 0
B31: =B30 -> 8 | D31: Mémoire physique ou numérique individuelle à chaque professionnel de l'établissement | E31: =E27 -> 1
B32: =B30 -> 8 | D32: Mémoire physique ou numérique partagée entre tous les professionnels de l'établissement | E32: =E28 -> 2
B33: =B30 -> 8 | D33: Mémoire physique ou numérique accessible à l’ensemble de la communauté éducative (élèves, professeurs, partenaires, parents) | E33: =E29 -> 3
A34: Domaine 2. Gestion Durable de L’école | B34: =B30+1 -> 9 | C34: Restauration scolaire - origine des denrées alimentaires (circuits courts, bio, commerce équitable) | D34: Les objectifs de la loi Egalim ne sont pas atteints | E34: =E30 -> 0
B35: =B34 -> 9 | D35: Les objectifs de la loi Egalim sont atteints partiellement (ex: local mais pas bio) | E35: =E31 -> 1
B36: =B34 -> 9 | D36: Les objectifs de la loi Egalim sont atteints | E36: =E32 -> 2
B37: =B34 -> 9 | D37: Les objectifs de la loi Egalim sont dépassés | E37: =E33 -> 3
B38: =B34+1 -> 10 | C38: Restauration scolaire – gaspillage alimentaire | D38: Le gaspillage n’est pas valorisé (composteur, méthanisation…) | E38: =E34 -> 0
B39: =B38 -> 10 | D39: Le gaspillage est valorisé (composteur, méthanisation…) | E39: =E35 -> 1
B40: =B38 -> 10 | D40: Un travail pédagogique avec les élèves a été réalisé sur le gaspillage mais ce dernier a peu baissé | E40: =E36 -> 2
B41: =B38 -> 10 | D41: Un travail pédagogique avec les élèves a été réalisé sur le gaspillage et ce dernier a nettement baissé | E41: =E37 -> 3
B42: =B38+1 -> 11 | C42: Aménagement de l'établissement (intérieur ou extérieur) | D42: Aucune réflexion n’est menée | E42: =E38 -> 0
B43: =B42 -> 11 | D43: Des actions ponctuelles sont menées en faveur de l'amélioration du bien-être des personnels et des élèves à l’intérieur OU à l’extérieur | E43: =E39 -> 1
B44: =B42 -> 11 | D44: Des actions ponctuelles sont menées en faveur de l'amélioration du bien-être des personnels et des élèves à l’intérieur ET à l’extérieur | E44: =E40 -> 2
B45: =B42 -> 11 | D45: Des projets sont menés en associant la communauté éducative dans l'idée d'amélioration continue du bien-être des personnels et des élèves | E45: =E41 -> 3
B46: =B42+1 -> 12 | C46: Biodiversité | D46: Aucune réflexion n’est menée | E46: =E42 -> 0
B47: =B46 -> 12 | D47: Des actions ponctuelles sont menées en faveur de la biodiversité par les agents OU les élèves (club jardinage, écoclub...) | E47: =E43 -> 1 | F47: Il existe un état des lieux et des actions ponctuelles d'économie
B48: =B46 -> 12 | D48: Des actions ponctuelles sont menées en faveur de la biodiversité par les agents ET les élèves (club jardinage, écoclub...) | E48: =E44 -> 2 | F48: L'établissement communique en interne sur sa consommation et met en place une politique de réduction en amont et en aval, de tri et/ou de valorisation
B49: =B46 -> 12 | D49: Des projets sont menés en associant la communauté éducative dans l'idée d'amélioration continue de la biodiversité | E49: =E45 -> 3 | F49: On observe une réduction de la production de déchets, la valorisation et le tri ont des résultats positifs, notamment sur le gaspillage alimentaire
B50: =B46+1 -> 13 | C50: Gestion durable de l'eau, des énergies et des consommables (Réduction des consommations, tri sélectif des déchets ) | D50: Aucune réflexion n’est menée | E50: =E46 -> 0
B51: =B50 -> 13 | D51: Il existe un état des lieux et des actions ponctuelles d'économie | E51: =E47 -> 1
B52: =B50 -> 13 | D52: L'équipe de direction met en place une politique de réduction des consommations et d'amélioration du tri des déchets | E52: =E48 -> 2
B53: =B50 -> 13 | D53: La communauté éducative est impliquée dans la réduction des consommations et l'amélioration du tri des déchets | E53: =E49 -> 3
B54: =B50+1 -> 14 | C54: Ecomobilité Habitation <=> établissement et Sortie scolaire | D54: Aucune réflexion n’est menée | E54: =E50 -> 0
B55: =B54 -> 14 | D55: Au moins une action liée aux déplacements est mise en œuvre dans l'établissement | E55: =E51 -> 1 | F55: Il existe un état des lieux ou des actions relatives à l'écomobilité
B56: =B54 -> 14 | D56: Les élèves ont été sensibilisés et la plupart des sorties de l’établissement sont organisées pour limiter l’impact des déplacements | E56: =E52 -> 2 | F56: L'établissement dispose d'un Plan de déplacement des personnes
B57: =B54 -> 14 | D57: L’ensemble de la communauté éducative (élèves, parents d’élèves, enseignants, collectivité,…) est impliqué dans la réduction de l’impact des déplacements | E57: =E53 -> 3 | F57: Les modes de déplacement doux sont privilégiés par l'ensemble des membres de la communauté éducative
B58: =B54+1 -> 15 | C58: Bâti scolaire | D58: Aucune réflexion n’est menée | E58: =E54 -> 0
B59: =B58 -> 15 | D59: Des travaux ponctuels d’entretien sont effectués | E59: =E55 -> 1
B60: =B58 -> 15 | D60: Des travaux ponctuels d’amélioration (passage néon à LED, …) sont effectués | E60: =E56 -> 2
B61: =B58 -> 15 | D61: D’importants travaux d’amélioration (isolation, chauffage, …) sont effectués | E61: =E57 -> 3
B62: =B58+1 -> 16 | C62: Entretien des locaux et pénibilité du travail des agents | D62: Aucune réflexion n’est menée | E62: =E58 -> 0 | F62: pas réfléchi sur long terme, pas réfléchi en équipe
B63: =B62 -> 16 | D63: Des actions de la collectivité sont mises en place pour favoriser un nettoyage éco-responsable OU diminuer la pénibilité du travail des agents | E63: =E59 -> 1 | F63: réflexion en équipe sur 1 année
B64: =B62 -> 16 | D64: Des actions de la collectivité sont mises en place pour favoriser un nettoyage éco-responsable ET diminuer la pénibilité du travail des agents | E64: =E60 -> 2 | F64: réflexion en équipe avec bilan et perspectives
B65: =B62 -> 16 | D65: Des actions de la collectivité sont mises en place pour favoriser un nettoyage éco-responsable et diminuer la pénibilité du travail des agents. Les élèves et les autres personnels (professeurs…) sont impliqués dans les actions mises en œuvre | E65: =E61 -> 3 | F65: réflexion en équipe (Ecole et collectivité) avec bilan et perspectives
A66: Domaine 3 : Pilotage de l’EDD Au sein de l’établissement | B66: =B62+1 -> 17 | C66: Le pilotage du Développement durable au sein du CESCE | D66: L’EDD a pris sa place au CESCE | E66: =E62 -> 0
B67: =B66 -> 17 | D67: L’EDD a pris sa place au CESCE et apparaît dans 1 parcours éducatif (Santé, Citoyenneté, Avenir, EAC) de l'élève | E67: =E63 -> 1
B68: =B66 -> 17 | D68: L’EDD a pris sa place au CESCE et apparaît dans 2 ou 3 parcours éducatifs (Santé, Citoyenneté, Avenir, EAC) de l'élève | E68: =E64 -> 2
B69: =B66 -> 17 | D69: L’EDD a pris sa place au CESCE et apparaît dans les 4 parcours éducatifs (Santé, Citoyenneté, Avenir, EAC) de l'élève | E69: =E65 -> 3
B70: =B66+1 -> 18 | C70: Dynamique d'établissement | D70: L'EDD n'est pas présente dans l'établissement | E70: =E66 -> 0
B71: =B70 -> 18 | D71: L'EDD est portée par quelques personnes dans l'établissement | E71: =E67 -> 1
B72: =B70 -> 18 | D72: Des personnels de statut différents (enseignant, agent, …) apportent leurs compétences au projet/parcours EDD | E72: =E68 -> 2
B73: =B70 -> 18 | D73: Une dynamique d'établissement permet d'articuler les domaines 1 (actions pédagogiques) et 2 (gestion de l’établissement) | E73: =E69 -> 3
B74: =B70+1 -> 19 | C74: Engagement des éco-délégués | D74: Aucun élève n’est identifié/élu | E74: =E70 -> 0
B75: =B74 -> 19 | D75: Des éco-délégués sont identifiés ou élus dans les classes | E75: =E71 -> 1
B76: =B74 -> 19 | D76: Les éco-délégués sont représentés dans différentes instances (CESCE, CVC, CVL, …) | E76: =E72 -> 2
B77: =B74 -> 19 | D77: Les éco-délégués sont représentés dans différentes instances (CESCE, CVC, CVL, …) et sont force de proposition | E77: =E73 -> 3
B78: =B74+1 -> 20 | C78: Parcours EDD de l’élève (enchaînement cohérent de projets au cours de la scolarité et en lien les ODD) | D78: L’EDD n’est pas pensé sous forme de parcours pour l’élève | E78: =E74 -> 0
B79: =B78 -> 20 | D79: Une réflexion autour d'un parcours EDD est amorcée dans l’établissement | E79: =E75 -> 1
B80: =B78 -> 20 | D80: Un parcours EDD existe pour une partie des élèves de l'établissement | E80: =E76 -> 2
B81: =B78 -> 20 | D81: Un parcours EDD existe pour l’ensemble des élèves de l'établissement | E81: =E77 -> 3
B82: =B78+1 -> 21 | C82: Formalisation des partenariats (signature de convention) | D82: Aucun partenariat n’est noué | E82: =E78 -> 0
B83: =B82 -> 21 | D83: Des partenariats sont formalisés en lien avec le domaine 1 (actions pédagogiques) OU le domaine 2 (gestion de l’établissement) | E83: =E79 -> 1
B84: =B82 -> 21 | D84: Des partenariats sont formalisés en lien avec le domaine 1 (actions pédagogiques) ET le domaine 2 (gestion de l’établissement) | E84: =E80 -> 2
B85: =B82 -> 21 | D85: Des partenariats pluriannuels diversifiés et consolidés sont formalisés | E85: =E81 -> 3
B86: =B82+1 -> 22 | C86: Projet d’établissement | D86: Le développement durable est absent du projet d’établissement | E86: =E82 -> 0 | F86: a voir avec les collègues du 1aire
B87: =B86 -> 22 | D87: Le développement durable apparaît dans au moins un axe du projet d’établissement | E87: =E83 -> 1
B88: =B86 -> 22 | D88: Le développement durable est central dans au moins un axe du projet d’établissement | E88: =E84 -> 2
B89: =B86 -> 22 | D89: Le développement durable est central dans tout le projet d’établissement | E89: =E85 -> 3
B90: =B86+1 -> 23 | C90: Valorisation de l’engagement des élèves | D90: Aucune valorisation de l’engagement des élèves n’est faite | E90: =E86 -> 0
B91: =B90 -> 23 | D91: Les élèves sont valorisés dans leur bulletin | E91: =E87 -> 1
B92: =B90 -> 23 | D92: Les élèves sont valorisés dans leur bulletin et leur LSU / parcoursup | E92: =E88 -> 2
B93: =B90 -> 23 | D93: Les élèves sont valorisés dans leur bulletin, leur LSU / parcoursup et lors d’une cérémonie (par exemple de fin d’année) | E93: =E89 -> 3
B94: =B90+1 -> 24 | C94: Communication | D94: Aucune information en direction de la communauté éducative n’est faite | E94: =E90 -> 0
B95: =B94 -> 24 | D95: Une communication interne est faite à la communauté éducative | E95: =E91 -> 1
B96: =B94 -> 24 | D96: Une communication interne à la communauté éducative et externe à celle-ci (journal, site internet, participation à des événements,…) sont faites | E96: =E92 -> 2
B97: =B94 -> 24 | D97: Une communication interne à la communauté éducative et externe à celle-ci (journal, site internet, participation à des événements,…) sont faites. Une fiche action pour le site académique EDD est envoyée | E97: =E93 -> 3
F98: =SUM('Grille à compléter'!F11:F34) -> 0
C100: cohésion de la gestion ? | D100: Aucune cohésion
D101: Un enseignant est impliqué avec la communauté éducative de sa classe
...

Sheet Résultat du positionnement
A1: Résultat de l'auto-positionnement E3D | E1: Etablissement : | F1: =IF('Grille à compléter'!E4="","",('Grille à compléter'!E4))
B3: Vous | C3: avez obtenu | D3: =Base!$B$136 -> 0 | E3: points | F3: sur 72
B4: =IF(Base!B136="","",IF(Base!B136>=54,"Cela vous permet de postuler pour une labellisation de niveau 3",IF(Base!B136>=36,"Cela vous permet de postuler pour une labellisation de niveau 2",IF(Base!B136>=18,"Cela vous permet de postuler pour une labellisation E3D niveau 1","Le nombre de points obtenus pour postuler pour une labellisation E3D semble faible")))) -> Le nombre de points obtenus pour postuler pour une labellisation E3D semble faible
A6: Je sollicite la candidature de mon établissement au Sélectionner un niveau dans la liste déroulante | D6: =IF(C6="","",IF(C6="Niveau 1","Votre dossier sera examiné par la commission E3D",IF(C6="Niveau 2","Votre établissement devra venir présenter la démarche EDD pendant environ 1h à Besançon. Vous serez prochainement contacté durant le mois de Mars.",IF(C6="Niveau 3","Une commission E3D viendra visiter votre établissement sur une demi-journée entre Avril et Juin.",""))))
A8: --> Envoyer ce fichier Excel par mail à l'adresse suivante (avant fin février de chaque année) | G8: labellisation.e3d@ac-besancon.fr
