Workbook
Name list_1: Base!$D$2:$D$5
Name list_10: Base!$D$38:$D$41
Name list_11: Base!$D$42:$D$45
Name list_12: Base!$D$46:$D$49
Name list_13: Base!$D$50:$D$53
Name list_14: Base!$D$54:$D$57
Name list_15: Base!$D$58:$D$61
Name list_16: Base!$D$62:$D$65
Name list_17: Base!$D$66:$D$69
Name list_18: Base!$D$70:$D$73
Name list_19: Base!$D$74:$D$77
Name list_2: Base!$D$6:$D$9
Name list_20: Base!$D$78:$D$81
Name list_21: Base!$D$82:$D$85
Name list_22: Base!$D$86:$D$89
Name list_23: Base!$D$90:$D$93
Name list_24: Base!$D$94:$D$97
Name list_3: Base!$D$10:$D$13
Name list_4: Base!$D$14:$D$17
Name list_5: Base!$D$18:$D$21
Name list_6: Base!$D$22:$D$25
Name list_7: Base!$D$26:$D$29
Name list_8: Base!$D$30:$D$33
Name list_9: Base!$D$34:$D$37

Sheet Rappel des procédures
B2: LABELLISATION DE TERRITOIRE ÉDUCATIF E3D
A4: Le Bulletin Officiel de l’Éducation Nationale n°36 du 24/09/2020 précise que sur un même territoire plusieurs structures scolaires peuvent viser ensemble un label E3D collectif (exemples : une circonscription, un réseau d'écoles et son collège, un réseau collèges et lycées, mais aussi une cité scolaire ou un réseau d'éducation prioritaire).
A5: Peut être considérée comme « E3D - Établissement en démarche de développement durable » toute école scolaire engagée dans la mise en oeuvre d'un projet établissant une continuité entre les enseignements, le périscolaire, la gestion et la maintenance de la structure scolaire en lien avec les parents, les collectivités locales et les partenaires.
A7: La grille d'autopositionnement est divisée en 9 items répartis en trois axes : Axe 1. Profil du territoire Axe 2. Actions pédagogiques et éducatives Axe 3. Coordination et rayonnement du territoire

Sheet Delimitation du territoire
B2: École / Établissement | F2: Personne(s) ayant rempli ce document
B3: Nom | C3: UAI | D3: adresse | E3: CP + ville | F3: Nom / Prénom | G3: courriel | H3: Nom / Prénom | I3: courriel
A4: Liste des établissements du territoire
A15: Liste des établissements étant amenés à rejoindre le territoire

Sheet Grille à compléter
E2: Positionnement E3D - Territoire Educatif
D3: Date d'envoi à labellisation.e3d@ac-besancon.fr
D4: Nom du territoire (facultatif) :
A5: Axes | B5: Domaines | C5: Items | D5: Intitulé de l'item | E5: Politique conduite | F5: Points | G5: Éléments explicatifs
A6: Axe 1 : Profil du territoire | B6: 1 | C6: 1 | D6: Taille du territoire | F6: =IF(ISBLANK(Tableau4[[#This Row],[Politique conduite]]),"",VLOOKUP(Tableau4[[#This Row],[Politique conduite]],Items24[[ind]:[Points]],2,0))
B7: 1 | C7: 2 | D7: Composition du territoire | F7: =IF(ISBLANK(Tableau4[[#This Row],[Politique conduite]]),"",VLOOKUP(Tableau4[[#This Row],[Politique conduite]],Items24[[ind]:[Points]],2,0))
B8: 1 | C8: 3 | D8: Proportion d’écoles et/ou établissements labellisés E3D | F8: =IF(ISBLANK(Tableau4[[#This Row],[Politique conduite]]),"",VLOOKUP(Tableau4[[#This Row],[Politique conduite]],Items24[[ind]:[Points]],2,0))
A9: Axe 2 : Actions pédagogiques et éducatives | B9: 2 | C9: 4 | D9: Actions ou/et projets EDD sur le territoire | F9: =IF(ISBLANK(Tableau4[[#This Row],[Politique conduite]]),"",VLOOKUP(Tableau4[[#This Row],[Politique conduite]],Items24[[ind]:[Points]],2,0))
B10: 2 | C10: 5 | D10: Parcours EDD de l’élève | F10: =IF(ISBLANK(Tableau4[[#This Row],[Politique conduite]]),"",VLOOKUP(Tableau4[[#This Row],[Politique conduite]],Items24[[ind]:[Points]],2,0))
B11: 2 | C11: 6 | D11: Rencontres entre élèves / éco-délégués | F11: =IF(ISBLANK(Tableau4[[#This Row],[Politique conduite]]),"",VLOOKUP(Tableau4[[#This Row],[Politique conduite]],Items24[[ind]:[Points]],2,0))
A12: Axe 3 : Coordination et rayonnement du territoire | B12: 3 | C12: 7 | D12: Pilotage du territoire | F12: =IF(ISBLANK(Tableau4[[#This Row],[Politique conduite]]),"",VLOOKUP(Tableau4[[#This Row],[Politique conduite]],Items24[[ind]:[Points]],2,0))
B13: 3 | C13: 8 | D13: Partenariats | F13: =IF(ISBLANK(Tableau4[[#This Row],[Politique conduite]]),"",VLOOKUP(Tableau4[[#This Row],[Politique conduite]],Items24[[ind]:[Points]],2,0))
B14: 3 | C14: 9 | D14: Valorisation des actions / projets et communication | F14: =IF(ISBLANK(Tableau4[[#This Row],[Politique conduite]]),"",VLOOKUP(Tableau4[[#This Row],[Politique conduite]],Items24[[ind]:[Points]],2,0))

Sheet Base
A1: domaine | B1: n_i | C1: items | D1: ind | E1: Points | F1: commentaires
A2: Axe 1.Profil du territoire | B2: 1 | C2: Taille du territoire | E2: 0
B3: 1 | D3: Le territoire comprend 2 structures (école / collège / lycée) | E3: 1
B4: 1 | D4: Le territoire comprend entre 3 et 5 structures (école / collège / lycée) | E4: 2
B5: 1 | D5: Le territoire comprend plus de 5 structures (école / collège / lycée) | E5: 3
B6: =B2+1 -> 2 | C6: Composition du territoire | E6: =E2 -> 0
B7: =B6 -> 2 | D7: Seulement que écoles ou que collèges ou que lycées | E7: =E3 -> 1
B8: =B6 -> 2 | D8: École/collège ou collège/lycée ou école/lycée | E8: =E4 -> 2
B9: =B6 -> 2 | D9: École/collège/lycée | E9: =E5 -> 3
B10: =B6+1 -> 3 | C10: Proportion d’écoles et/ou établissements labellisés E3D | E10: =E6 -> 0
B11: =B10 -> 3 | D11: Moins de la moitié ou la moitié est labellisée | E11: =E7 -> 1
B12: =B10 -> 3 | D12: Entre la moitié et les trois quarts sont labellisés | E12: =E8 -> 2
B13: =B10 -> 3 | D13: Tous sont labellisés | E13: =E9 -> 3
B14: =B10+1 -> 4 | E14: =E10 -> 0
B15: =B14 -> 4 | E15: =E11 -> 1
B16: =B14 -> 4 | E16: =E12 -> 2
B17: =B14 -> 4 | E17: =E13 -> 3
B18: =B14+1 -> 5 | E18: =E14 -> 0
B19: =B18 -> 5 | E19: =E15 -> 1
B20: =B18 -> 5 | E20: =E16 -> 2
B21: =B18 -> 5 | E21: =E17 -> 3
B22: =B18+1 -> 6 | E22: =E18 -> 0
B23: =B22 -> 6 | E23: =E19 -> 1
B24: =B22 -> 6 | E24: =E20 -> 2
B25: =B22 -> 6 | E25: =E21 -> 3
B26: =B22+1 -> 7 | E26: =E22 -> 0
B27: =B26 -> 7 | E27: =E23 -> 1
B28: =B26 -> 7 | E28: =E24 -> 2
B29: =B26 -> 7 | E29: =E25 -> 3
B30: =B26+1 -> 8 | E30: =E26 -> 0
B31: =B30 -> 8 | E31: =E27 -> 1
B32: =B30 -> 8 | E32: =E28 -> 2
B33: =B30 -> 8 | E33: =E29 -> 3
A34: Axe 2. Actions pédagogiques et éducatives | B34: =B30+1 -> 9 | C34: Actions ou/et projets EDD sur le territoire | E34: =E30 -> 0
B35: =B34 -> 9 | D35: Des actions sont mises en place en lien avec des ODD et en articulation avec les enseignements | E35: =E31 -> 1
B36: =B34 -> 9 | D36: Des projets EDD se mettent en place de façon coordonnée | E36: =E32 -> 2
B37: =B34 -> 9 | D37: Des projets et actions d'EDD remarquables, coordonnés et transférables sont organisés | E37: =E33 -> 3
B38: =B34+1 -> 10 | C38: Parcours EDD de l’élève | E38: =E34 -> 0
B39: =B38 -> 10 | D39: Il existe un parcours coordonné EDD de l'élève dans les écoles du territoire ou dans les collèges du territoire ou dans les lycées du territoire | E39: =E35 -> 1
B40: =B38 -> 10 | D40: Il existe un parcours coordonné EDD de l'élève depuis le début de l’école jusqu’à la fin du collège, ou depuis le début du collège jusqu’à la fin du lycée | E40: =E36 -> 2
B41: =B38 -> 10 | D41: Le territoire propose un parcours EDD de l'élève coordonné et cohérent, de l’école au lycée | E41: =E37 -> 3
B42: =B38+1 -> 11 | C42: Rencontres entre élèves / éco-délégués | D42: Les élèves / éco-délégués ne se rencontrent pas (par exemple même action mais à des endroits différents) | E42: =E38 -> 0
B43: =B42 -> 11 | D43: Les élèves / éco-délégués se rencontrent lors d’actions ponctuelles à l’initiative de leurs enseignants | E43: =E39 -> 1
B44: =B42 -> 11 | D44: Les élèves / éco-délégués se rencontrent lors d’actions ponctuelles de leur propre initiative | E44: =E40 -> 2
B45: =B42 -> 11 | D45: Les élèves / éco-délégués se forment entre pairs (tutorat, animation d’atelier, ...) | E45: =E41 -> 3
B46: =B42+1 -> 12 | E46: =E42 -> 0
B47: =B46 -> 12 | E47: =E43 -> 1 | F47: Il existe un état des lieux et des actions ponctuelles d'économie
B48: =B46 -> 12 | E48: =E44 -> 2 | F48: L'établissement communique en interne sur sa consommation et met en place une politique de réduction en amont et en aval, de tri et/ou de valorisation
B49: =B46 -> 12 | E49: =E45 -> 3 | F49: On observe une réduction de la production de déchets, la valorisation et le tri ont des résultats positifs, notamment sur le gaspillage alimentaire
B50: =B46+1 -> 13 | E50: =E46 -> 0
B51: =B50 -> 13 | E51: =E47 -> 1
B52: =B50 -> 13 | E52: =E48 -> 2
B53: =B50 -> 13 | E53: =E49 -> 3
B54: =B50+1 -> 14 | E54: =E50 -> 0
B55: =B54 -> 14 | E55: =E51 -> 1 | F55: Il existe un état des lieux ou des actions relatives à l'écomobilité
B56: =B54 -> 14 | E56: =E52 -> 2 | F56: L'établissement dispose d'un Plan de déplacement des personnes
B57: =B54 -> 14 | E57: =E53 -> 3 | F57: Les modes de déplacement doux sont privilégiés par l'ensemble des membres de la communauté éducative
B58: =B54+1 -> 15 | E58: =E54 -> 0
B59: =B58 -> 15 | E59: =E55 -> 1
B60: =B58 -> 15 | E60: =E56 -> 2
B61: =B58 -> 15 | E61: =E57 -> 3
B62: =B58+1 -> 16 | E62: =E58 -> 0 | F62: pas réfléchi sur long terme, pas réfléchi en équipe
B63: =B62 -> 16 | E63: =E59 -> 1 | F63: réflexion en équipe sur 1 année
B64: =B62 -> 16 | E64: =E60 -> 2 | F64: réflexion en équipe avec bilan et perspectives
B65: =B62 -> 16 | E65: =E61 -> 3 | F65: réflexion en équipe (Ecole et collectivité) avec bilan et perspectives
A66: Axe 3 : Coordination et rayonnement du territoire | B66: =B62+1 -> 17 | C66: Pilotage du territoire | E66: =E62 -> 0
B67: =B66 -> 17 | D67: Des réunions sont organisées pour la mise en place d'actions en lien avec les ODD | E67: =E63 -> 1
B68: =B66 -> 17 | D68: Un comité de pilotage de l’EDD a été crée avec des membres éducatifs des écoles ou établissements concernés. Il Intègre des élèves / éco-délégués | E68: =E64 -> 2
B69: =B66 -> 17 | D69: Un comité de pilotage de l’EDD a été crée avec des membres éducatifs des écoles ou établissements concernés. Il Intègre des partenaires (collectivités, associations…) et des éco-délégués | E69: =E65 -> 3
B70: =B66+1 -> 18 | C70: Partenariats | E70: =E66 -> 0
B71: =B70 -> 18 | D71: Les actions / projets font appel à des intervenants extérieurs | E71: =E67 -> 1
B72: =B70 -> 18 | D72: Des partenariats ont été formalisés pour les actions / projets avec des associations / collectivités / … locales présentes dans le territoire concerné | E72: =E68 -> 2
B73: =B70 -> 18 | D73: Les partenariats formalisés rentrent dans une stratégie de pérennisation. Les collectivités territoriales sont des partenaires privilégiés | E73: =E69 -> 3
B74: =B70+1 -> 19 | C74: Valorisation des actions / projets et communication | E74: =E70 -> 0
B75: =B74 -> 19 | D75: Quelques établissements communiquent sur les actions / projets communs et les valorisent | E75: =E71 -> 1
B76: =B74 -> 19 | D76: Tous les établissements communiquent sur les actions / projets communs et les valorisent | E76: =E72 -> 2
B77: =B74 -> 19 | D77: Le territoire communique sur les actions / projets communs et les valorise en invitant les différents partenaires (associations, collectivités,…) | E77: =E73 -> 3
B78: =B74+1 -> 20 | E78: =E74 -> 0
B79: =B78 -> 20 | E79: =E75 -> 1
B80: =B78 -> 20 | E80: =E76 -> 2
B81: =B78 -> 20 | E81: =E77 -> 3
B82: =B78+1 -> 21 | E82: =E78 -> 0
B83: =B82 -> 21 | E83: =E79 -> 1
B84: =B82 -> 21 | E84: =E80 -> 2
B85: =B82 -> 21 | E85: =E81 -> 3
B86: =B82+1 -> 22 | E86: =E82 -> 0 | F86: a voir avec les collègues du 1aire
B87: =B86 -> 22 | E87: =E83 -> 1
B88: =B86 -> 22 | E88: =E84 -> 2
B89: =B86 -> 22 | E89: =E85 -> 3
B90: =B86+1 -> 23 | E90: =E86 -> 0
B91: =B90 -> 23 | E91: =E87 -> 1
B92: =B90 -> 23 | E92: =E88 -> 2
B93: =B90 -> 23 | E93: =E89 -> 3
B94: =B90+1 -> 24 | E94: =E90 -> 0
B95: =B94 -> 24 | E95: =E91 -> 1
B96: =B94 -> 24 | E96: =E92 -> 2
B97: =B94 -> 24 | E97: =E93 -> 3
F98: =SUM('Grille à compléter'!F6:F14) -> 0
C100: cohésion de la gestion ? | D100: Aucune cohésion
D101: Un enseignant est impliqué avec la communauté éducative de sa classe
...

Sheet Résultat du positionnement
A1: Résultat de l'auto-positionnement E3D | E1: Territoire : | F1: =IF('Grille à compléter'!E4="","",('Grille à compléter'!E4))
B3: Vous | C3: avez obtenu | D3: =Base!B121 -> 0 | E3: points | F3: sur 27
B4: =IF(Base!B121="","",IF(Base!B121>=21,"Cela vous permet de postuler pour une labellisation de niveau 3",IF(Base!B121>=14,"Cela vous permet de postuler pour une labellisation de niveau 2",IF(Base!B121>=7,"Cela vous permet de postuler pour une labellisation E3D niveau 1","Le nombre de points obtenus pour postuler pour une labellisation E3D semble faible")))) -> Le nombre de points obtenus pour postuler pour une labellisation E3D semble faible
A6: Je sollicite la candidature de mon établissement au Sélectionner un niveau dans la liste déroulante | D6: =IF(C6="","",IF(C6="Niveau 1","Votre dossier sera examiné par la commission E3D",IF(C6="Niveau 2","Votre établissement devra venir présenter la démarche EDD pendant environ 1h à Besançon. Vous serez prochainement contacté durant le mois de Mars.",IF(C6="Niveau 3","Une commission E3D viendra visiter votre établissement sur une demi-journée à une journée entre Avril et Juin.",""))))
A8: --> Envoyer ce fichier Excel par mail à l'adresse suivante (avant fin février de chaque année) | G8: labellisation.e3d@ac-besancon.fr
