Workbook
Name list_1: Base!$D$2:$D$5
Name list_10: Base!$D$38:$D$41
Name list_11: Base!$D$42:$D$45
Name list_12: Base!$D$46:$D$49
Name list_13: Base!$D$50:$D$53
Name list_14: Base!$D$54:$D$57
Name list_15: Base!$D$58:$D$61
Name list_16: Base!$D$62:$D$65
Name list_17: Base!$D$66:$D$69
Name list_18: Base!$D$70:$D$73
Name list_19: Base!$D$74:$D$77
Name list_2: Base!$D$6:$D$9
Name list_20: Base!$D$78:$D$81
Name list_21: Base!$D$82:$D$85
Name list_22: Base!$D$86:$D$89
Name list_23: Base!$D$90:$D$93
Name list_24: Base!$D$94:$D$97
Name list_3: Base!$D$10:$D$13
Name list_4: Base!$D$14:$D$17
Name list_5: Base!$D$18:$D$21
Name list_6: Base!$D$22:$D$25
Name list_7: Base!$D$26:$D$29
Name list_8: Base!$D$30:$D$33
Name list_9: Base!$D$34:$D$37

Sheet Rappel des procédures
B2: LABELLISATION DE TERRITOIRE ÉDUCATIF E3D
A4: Le Bulletin Officiel de l’Éducation Nationale n°36 du 24/09/2020 précise que sur un même territoire plusieurs structures scolaires peuvent viser ensemble un label E3D collectif (exemples : une circonscription, un réseau d'écoles et son collège, un réseau collèges et lycées, mais aussi une cité scolaire ou un réseau d'éducation prioritaire).
A5: Peut être considérée comme « E3D - Établissement en démarche de développement durable » toute école scolaire engagée dans la mise en oeuvre d'un projet établissant une continuité entre les enseignements, le périscolaire, la gestion et la maintenance de la structure scolaire en lien avec les parents, les collectivités locales et les partenaires.
A7: La grille d'autopositionnement est divisée en 9 items répartis en trois axes : Axe 1. Profil du territoire Axe 2. Actions pédagogiques et éducatives Axe 3. Coordination et rayonnement du territoire

Sheet Delimitation du territoire
B2: École / Établissement | F2: Personne(s) ayant rempli ce document
B3: Nom | C3: UAI | D3: adresse | E3: CP + ville | F3: Nom / Prénom | G3: courriel | H3: Nom / Prénom | I3: courriel
A4: Liste des établissements du territoire
A15: Liste des établissements étant amenés à rejoindre le territoire

Sheet Grille à compléter
E2: Positionnement E3D - Territoire Educatif
D3: Date d'envoi à labellisation.e3d@ac-besancon.fr
D4: Nom du territoire (facultatif) :
A5: Axes | B5: Domaines | C5: Items | D5: Intitulé de l'item | E5: Politique conduite | F5: Points | G5: Éléments explicatifs
A6: Axe 1 : Profil du territoire | B6: 1 | C6: 1 | D6: Taille du territoire | F6: =IF(ISBLANK(Tableau4[[#This Row],[Politique conduite]]),"",VLOOKUP(Tableau4[[#This Row],[Politique conduite]],Items24[[ind]:[Points]],2,0))
B7: 1 | C7: 2 | D7: Composition du territoire | F7: =IF(ISBLANK(Tableau4[[#This Row],[Politique conduite]]),"",VLOOKUP(Tableau4[[#This Row],[Politique conduite]],Items24[[ind]:[Points]],2,0))
B8: 1 | C8: 3 | D8: Proportion d’écoles et/ou établissements labellisés E3D | F8: =IF(ISBLANK(Tableau4[[#This Row],[Politique conduite]]),"",VLOOKUP(Tableau4[[#This Row],[Politique conduite]],Items24[[ind]:[Points]],2,0))
A9: Axe 2 : Actions pédagogiques et éducatives | B9: 2 | C9: 4 | D9: Actions ou/et projets EDD sur le territoire | F9: =IF(ISBLANK(Tableau4[[#This Row],[Politique conduite]]),"",VLOOKUP(Tableau4[[#This Row],[Politique conduite]],Items24[[ind]:[Points]],2,0))
B10: 2 | C10: 5 | D10: Parcours EDD de l’élève | F10: =IF(ISBLANK(Tableau4[[#This Row],[Politique conduite]]),"",VLOOKUP(Tableau4[[#This Row],[Politique conduite]],Items24[[ind]:[Points]],2,0))
B11: 2 | C11: 6 | D11: Rencontres entre élèves / éco-délégués | F11: =IF(ISBLANK(Tableau4[[#This Row],[Politique conduite]]),"",VLOOKUP(Tableau4[[#This Row],[Politique conduite]],Items24[[ind]:[Points]],2,0))
A12: Axe 3 : Coordination et rayonnement du territoire | B12: 3 | C12: 7 | D12: Pilotage du territoire | F12: =IF(ISBLANK(Tableau4[[#This Row],[Politique conduite]]),"",VLOOKUP(Tableau4[[#This Row],[Politique conduite]],Items24[[ind]:[Points]],2,0))
B13: 3 | C13: 8 | D13: Partenariats | F13: =IF(ISBLANK(Tableau4[[#This Row],[Politique conduite]]),"",VLOOKUP(Tableau4[[#This Row],[Politique conduite]],Items24[[ind]:[Points]],2,0))
B14: 3 | C14: 9 | D14: Valorisation des actions / projets et communication | F14: =IF(ISBLANK(Tableau4[[#This Row],[Politique conduite]]),"",VLOOKUP(Tableau4[[#This Row],[Politique conduite]],Items24[[ind]:[Points]],2,0))

Sheet Base
A1: domaine | B1: n_i | C1: items | D1: ind | E1: Points | F1: commentaires
A2: Axe 1.Profil du territoire | B2: 1 | C2: Taille du territoire | E2: 0
B3: 1 | D3: Le territoire comprend 2 structures (école / collège / lycée) | E3: 1
B4: 1 | D4: Le territoire comprend entre 3 et 5 structures (école / collège / lycée) | E4: 2
B5: 1 | D5: Le territoire comprend plus de 5 structures (école / collège / lycée) | E5: 3
B6: =B2+1 -> 2 | C6: Composition du territoire | E6: =E2 -> 0
B7: =B6 -> 2 | D7: Seulement que écoles ou que collèges ou que lycées | E7: =E3 -> 1
B8: =B6 -> 2 | D8: École/collège ou collège/lycée ou école/lycée | E8: =E4 -> 2
B9: =B6 -> 2 | D9: École/collège/lycée | E9: =E5 -> 3
B10: =B6+1 -> 3 | C10: Proportion d’écoles et/ou établissements labellisés E3D | E10: =E6 -> 0
B11: =B10 -> 3 | D11: Moins de la moitié ou la moitié est labellisée | E11: =E7 -> 1
B12: =B10 -> 3 | D12: Entre la moitié et les trois quarts sont labellisés | E12: =E8 -> 2
B13: =B10 -> 3 | D13: Tous sont labellisés | E13: =E9 -> 3
B14: =B10+1 -> 4 | E14: =E10 -> 0
B15: =B14 -> 4 | E15: =E11 -> 1
B16: =B14 -> 4 | E16: =E12 -> 2
B17: =B14 -> 4 | E17: =E13 -> 3
B18: =B14+1 -> 5 | E18: =E14 -> 0
B19: =B18 -> 5 | E19: =E15 -> 1
B20: =B18 -> 5 | E20: =E16 -> 2
B21: =B18 -> 5 | E21: =E17 -> 3
B22: =B18+1 -> 6 | E22: =E18 -> 0
B23: =B22 -> 6 | E23: =E19 -> 1
B24: =B22 -> 6 | E24: =E20 -> 2
B25: =B22 -> 6 | E25: =E21 -> 3
B26: =B22+1 -> 7 | E26: =E22 -> 0
B27: =B26 -> 7 | E27: =E23 -> 1
B28: =B26 -> 7 | E28: =E24 -> 2
B29: =B26 -> 7 | E29: =E25 -> 3
B30: =B26+1 -> 8 | E30: =E26 -> 0
B31: =B30 -> 8 | E31: =E27 -> 1
B32: =B30 -> 8 | E32: =E28 -> 2
B33: =B30 -> 8 | E33: =E29 -> 3
A34: Axe 2. Actions pédagogiques et éducatives | B34: =B30+1 -> 9 | C34: Actions ou/et projets EDD sur le territoire | E34: =E30 -> 0
B35: =B34 -> 9 | D35: Des actions sont mises en place en lien avec des ODD et en articulation avec les enseignements | E35: =E31 -> 1
B36: =B34 -> 9 | D36: Des projets EDD se mettent en place de façon coordonnée | E36: =E32 -> 2
B37: =B34 -> 9 | D37: Des projets et actions d'EDD remarquables, coordonnés et transférables sont organisés | E37: =E33 -> 3
B38: =B34+1 -> 10 | C38: Parcours EDD de l’élève | E38: =E34 -> 0
B39: =B38 -> 10 | D39: Il existe un parcours coordonné EDD de l'élève dans les écoles du territoire ou dans les collèges du territoire ou dans les lycées du territoire | E39: =E35 -> 1
B40: =B38 -> 10 | D40: Il existe un parcours coordonné EDD de l'élève depuis le début de l’école jusqu’à la fin du collège, ou depuis le début du collège jusqu’à la fin du lycée | E40: =E36 -> 2
...

Sheet Résultat du positionnement
A1: Résultat de l'auto-positionnement E3D | E1: Territoire : | F1: =IF('Grille à compléter'!E4="","",('Grille à compléter'!E4))
B3: Vous | C3: avez obtenu | D3: =Base!B121 -> 0 | E3: points | F3: sur 27
B4: =IF(Base!B121="","",IF(Base!B121>=21,"Cela vous permet de postuler pour une labellisation de niveau 3",IF(Base!B121>=14,"Cela vous permet de postuler pour une labellisation de niveau 2",IF(Base!B121>=7,"Cela vous permet de postuler pour une labellisation E3D niveau 1","Le nombre de points obtenus pour postuler pour une labellisation E3D semble faible")))) -> Le nombre de points obtenus pour postuler pour une labellisation E3D semble faible
A6: Je sollicite la candidature de mon établissement au Sélectionner un niveau dans la liste déroulante | D6: =IF(C6="","",IF(C6="Niveau 1","Votre dossier sera examiné par la commission E3D",IF(C6="Niveau 2","Votre établissement devra venir présenter la démarche EDD pendant environ 1h à Besançon. Vous serez prochainement contacté durant le mois de Mars.",IF(C6="Niveau 3","Une commission E3D viendra visiter votre établissement sur une demi-journée à une journée entre Avril et Juin.",""))))
A8: --> Envoyer ce fichier Excel par mail à l'adresse suivante (avant fin février de chaque année) | G8: labellisation.e3d@ac-besancon.fr
